BEGIN:VCALENDAR
VERSION:2.0
PRODID:-//Prospects - ECPv5.14.1//NONSGML v1.0//EN
CALSCALE:GREGORIAN
METHOD:PUBLISH
X-WR-CALNAME:Prospects
X-ORIGINAL-URL:https://prospectsfoundation.org.uk
X-WR-CALDESC:Events for Prospects
BEGIN:VTIMEZONE
TZID:Europe/London
BEGIN:DAYLIGHT
TZOFFSETFROM:+0000
TZOFFSETTO:+0100
TZNAME:BST
DTSTART:20240331T010000
END:DAYLIGHT
BEGIN:STANDARD
TZOFFSETFROM:+0100
TZOFFSETTO:+0000
TZNAME:GMT
DTSTART:20241027T010000
END:STANDARD
END:VTIMEZONE
BEGIN:VEVENT
DTSTART;TZID=Europe/London:20240515T100000
DTEND;TZID=Europe/London:20240515T140000
DTSTAMP:20260422T121219
CREATED:20240502T163612Z
LAST-MODIFIED:20240502T163612Z
UID:12044-1715767200-1715781600@prospectsfoundation.org.uk
SUMMARY:Memorial Park - Dead hedging
DESCRIPTION:Join Hyndburn’s Woodlands Officer Brandon for weekly practical conservation sessions\, every Wednesday at Memorial Park in Great Harwood. \nThis week\, we will be creating a natural dead hedge as part of the on-going works at the park. The dead hedge will act as a natural barrier for the planned forest school in the area. \n\n\nTools\, gloves and PPE will be provided. Please wear sturdy boots\, long sleeves and full length trousers as we may be working around brambles and nettles. Waterproofs may be needed\, depending on the weather. \nWe will be meeting on Church Lane\, Great Harwood\, BB6 7PU. Staff will be in orange high-vis. \nTo find out more or confirm your attendance\, please contact Brandon at brandon.cherry@prospectsfoundation.org.uk or 07733 840842 \n\nMemorial Park – Dead hedging
URL:https://prospectsfoundation.org.uk/event/memorial-park-dead-hedging/
LOCATION:Memorial Park\, Church Lane\, Great Harwood\, Lancashire\, BB6 7PR\, United Kingdom
CATEGORIES:Health and wellbeing,Memorial Park,Outdoor Learning,Volunteering,Woodlands
ATTACH;FMTTYPE=image/jpeg:https://prospectsfoundation.org.uk/wp-content/uploads/2024/02/MemorialParkPic.jpg
ORGANIZER;CN="Brandon%20Cherry":MAILTO:brandon.cherry@prospectsfoundation.org.uk
END:VEVENT
END:VCALENDAR