BEGIN:VCALENDAR
VERSION:2.0
PRODID:-//Prospects - ECPv5.14.1//NONSGML v1.0//EN
CALSCALE:GREGORIAN
METHOD:PUBLISH
X-WR-CALNAME:Prospects
X-ORIGINAL-URL:https://prospectsfoundation.org.uk
X-WR-CALDESC:Events for Prospects
BEGIN:VTIMEZONE
TZID:Europe/London
BEGIN:DAYLIGHT
TZOFFSETFROM:+0000
TZOFFSETTO:+0100
TZNAME:BST
DTSTART:20230326T010000
END:DAYLIGHT
BEGIN:STANDARD
TZOFFSETFROM:+0100
TZOFFSETTO:+0000
TZNAME:GMT
DTSTART:20231029T010000
END:STANDARD
END:VTIMEZONE
BEGIN:VEVENT
DTSTART;TZID=Europe/London:20230202T100000
DTEND;TZID=Europe/London:20230202T150000
DTSTAMP:20260425T144101
CREATED:20230127T094637Z
LAST-MODIFIED:20230127T094637Z
UID:8975-1675332000-1675350000@prospectsfoundation.org.uk
SUMMARY:Martholme Greenway - Hyndburn's Woodlands
DESCRIPTION:Join Gareth and the Woodland Volunteers for a day of practical environmental conservation! \nTasks will include coppicing hazel and removing non-native trees from the site. \nContact Gareth – gareth.muir@prospectsfoundation.org.uk or phone 01254 230 348 to find out more and get involved! \n \nMartholme Greenway – Hyndburn’s Woodlands
URL:https://prospectsfoundation.org.uk/event/martholme-greenway-hyndburns-woodlands-9/
LOCATION:Martholme Greenway\, Martholme Greenway Martholme Lane\, Great Harwood\, Blackburn\, BB6 7UQ
CATEGORIES:Conservation,Volunteering,Woodlands
ORGANIZER;CN="Gareth%20Muir%20-%20Woodlands%20Officer":MAILTO:gareth.muir@prospectsfoundation.org.uk
END:VEVENT
END:VCALENDAR