BEGIN:VCALENDAR
VERSION:2.0
PRODID:-//Prospects - ECPv5.14.1//NONSGML v1.0//EN
CALSCALE:GREGORIAN
METHOD:PUBLISH
X-WR-CALNAME:Prospects
X-ORIGINAL-URL:https://prospectsfoundation.org.uk
X-WR-CALDESC:Events for Prospects
BEGIN:VTIMEZONE
TZID:Europe/London
BEGIN:DAYLIGHT
TZOFFSETFROM:+0000
TZOFFSETTO:+0100
TZNAME:BST
DTSTART:20250330T010000
END:DAYLIGHT
BEGIN:STANDARD
TZOFFSETFROM:+0100
TZOFFSETTO:+0000
TZNAME:GMT
DTSTART:20251026T010000
END:STANDARD
END:VTIMEZONE
BEGIN:VEVENT
DTSTART;TZID=Europe/London:20250723T100000
DTEND;TZID=Europe/London:20250723T130000
DTSTAMP:20260419T154305
CREATED:20250612T083701Z
LAST-MODIFIED:20250626T161741Z
UID:14609-1753264800-1753275600@prospectsfoundation.org.uk
SUMMARY:Led beginner's bike ride
DESCRIPTION:Join Prospects for a gentle bike ride exploring the Hyndburn Greenway from Accrington to Great Harwood\, and back along the canal. We will be cycling mainly along the canal towpath and smaller roads.\n\nOpen to all. There is also the opportunity to borrow bikes from Active Cycles free of charge for the day.\n\nFamily friendly and free. Please be aware that this is an 8-mile route.\n\nLed beginner’s bike ride
URL:https://prospectsfoundation.org.uk/event/led-beginners-bike-ride/
LOCATION:Prospects Environment Centre\, 54 Broadway\, Accrington\, BB51EW\, United Kingdom
CATEGORIES:Canal,Cycling,Family,Health and wellbeing,Outdoor Learning
ATTACH;FMTTYPE=image/png:https://prospectsfoundation.org.uk/wp-content/uploads/2025/06/331927171_759988565468373_3804611222142394161_n.png
END:VEVENT
END:VCALENDAR