BEGIN:VCALENDAR
VERSION:2.0
PRODID:-//Prospects - ECPv5.14.1//NONSGML v1.0//EN
CALSCALE:GREGORIAN
METHOD:PUBLISH
X-WR-CALNAME:Prospects
X-ORIGINAL-URL:https://prospectsfoundation.org.uk
X-WR-CALDESC:Events for Prospects
BEGIN:VTIMEZONE
TZID:Europe/London
BEGIN:DAYLIGHT
TZOFFSETFROM:+0000
TZOFFSETTO:+0100
TZNAME:BST
DTSTART:20250330T010000
END:DAYLIGHT
BEGIN:STANDARD
TZOFFSETFROM:+0100
TZOFFSETTO:+0000
TZNAME:GMT
DTSTART:20251026T010000
END:STANDARD
END:VTIMEZONE
BEGIN:VEVENT
DTSTART;TZID=Europe/London:20250930T100000
DTEND;TZID=Europe/London:20250930T150000
DTSTAMP:20260423T023348
CREATED:20250827T145501Z
LAST-MODIFIED:20250827T145501Z
UID:15154-1759226400-1759244400@prospectsfoundation.org.uk
SUMMARY:Jubilee Meadow - Wildflower Seed Sowing
DESCRIPTION:Join Hyndburn’s Woodlands Officer Brandon for weekly practical conservation sessions. \n\nThis week\, we will be at Jubilee woodland/meadow carrying out a wildflower seed sowing session. Tasks include sowing wildflower seeds into the recently cut meadow we have been working on for the past few years. \nWe have seen some success last year with the spreading of Yellow-rattle in the meadow\, so with any luck a proactive seed sowing session may further increase the species diversity of the site. \n\nMeeting on Hollins Lane\, BB5 2QY (Just next to the Hollins School) \n\n\nTo find out more or confirm your attendance\, please contact Brandon at brandon.cherry@prospectsfoundation.org.uk or 07733 840842 \n\nJubilee Meadow – Wildflower Seed Sowing
URL:https://prospectsfoundation.org.uk/event/jubilee-meadow-wildflower-seed-sowing/
LOCATION:Woodnook Vale LNR – Hollins Ln\, 165 Hollins Lane\, Accrington\, BB5 2QY
CATEGORIES:Conservation,Health and wellbeing,Outdoor Learning,Volunteering,Woodlands
ATTACH;FMTTYPE=image/jpeg:https://prospectsfoundation.org.uk/wp-content/uploads/2025/08/IMG_20250708_110432.jpg
ORGANIZER;CN="Brandon%20Cherry":MAILTO:brandon.cherry@prospectsfoundation.org.uk
END:VEVENT
END:VCALENDAR