BEGIN:VCALENDAR
VERSION:2.0
PRODID:-//Prospects - ECPv5.14.1//NONSGML v1.0//EN
CALSCALE:GREGORIAN
METHOD:PUBLISH
X-WR-CALNAME:Prospects
X-ORIGINAL-URL:https://prospectsfoundation.org.uk
X-WR-CALDESC:Events for Prospects
BEGIN:VTIMEZONE
TZID:Europe/London
BEGIN:DAYLIGHT
TZOFFSETFROM:+0000
TZOFFSETTO:+0100
TZNAME:BST
DTSTART:20250330T010000
END:DAYLIGHT
BEGIN:STANDARD
TZOFFSETFROM:+0100
TZOFFSETTO:+0000
TZNAME:GMT
DTSTART:20251026T010000
END:STANDARD
END:VTIMEZONE
BEGIN:VEVENT
DTSTART;TZID=Europe/London:20250909T090000
DTEND;TZID=Europe/London:20250909T120000
DTSTAMP:20260422T175133
CREATED:20250828T111546Z
LAST-MODIFIED:20250902T145916Z
UID:15176-1757408400-1757419200@prospectsfoundation.org.uk
SUMMARY:Jubilee & King George's Meadow Cuts | Hyndburn's Nature Reserve Volunteers session @Woodnook Vale LNR
DESCRIPTION:A compact tractor will be coming to perform a cut and collect at Jubilee Meadow and King George’s Meadow (next to King George’s Playing Field). We will need volunteers to help 9am-12pm to marshal and help save small critters. \nJoin us for our new Hyndburn’s Nature Reserves project! There will be fortnightly conservation volunteers sessions at Woodnook Vale LNR\, Wednesdays. Come along to learn new skills\, meet people\, keep fit and help wildlife! \nTo express your interest or find out more\, email robert.gabryszak@prospectsfoundation.org.uk\, telephone 01254 230348 or call into the Prospects office at 54 Broadway\, Accrington \n  \nJubilee & King George’s Meadow Cuts | Hyndburn’s Nature Reserve Volunteers session @Woodnook Vale LNR
URL:https://prospectsfoundation.org.uk/event/jubilee-king-georges-meadow-cuts-hyndburns-nature-reserve-volunteers-session-woodnook-vale-lnr/
LOCATION:Woodnook Vale LNR – Hollins Ln\, 165 Hollins Lane\, Accrington\, BB5 2QY
CATEGORIES:Conservation,Health and wellbeing,Peel Park and the Coppice LNR,Volunteering
ATTACH;FMTTYPE=image/jpeg:https://prospectsfoundation.org.uk/wp-content/uploads/2022/08/pleck-meadow-tractor-e1669736944385.jpg
ORGANIZER;CN="Robert%20Gabryszak%20-%20LNR%20Project%20Officer":MAILTO:robert.gabryszak@prospectsfoundation.org.uk
END:VEVENT
END:VCALENDAR