BEGIN:VCALENDAR
VERSION:2.0
PRODID:-//Prospects - ECPv5.14.1//NONSGML v1.0//EN
CALSCALE:GREGORIAN
METHOD:PUBLISH
X-WR-CALNAME:Prospects
X-ORIGINAL-URL:https://prospectsfoundation.org.uk
X-WR-CALDESC:Events for Prospects
BEGIN:VTIMEZONE
TZID:Europe/London
BEGIN:DAYLIGHT
TZOFFSETFROM:+0000
TZOFFSETTO:+0100
TZNAME:BST
DTSTART:20250330T010000
END:DAYLIGHT
BEGIN:STANDARD
TZOFFSETFROM:+0100
TZOFFSETTO:+0000
TZNAME:GMT
DTSTART:20251026T010000
END:STANDARD
END:VTIMEZONE
BEGIN:VEVENT
DTSTART;TZID=Europe/London:20250401T100000
DTEND;TZID=Europe/London:20250401T150000
DTSTAMP:20260421T102814
CREATED:20250327T114924Z
LAST-MODIFIED:20250327T114924Z
UID:14087-1743501600-1743519600@prospectsfoundation.org.uk
SUMMARY:Jubilee - Hyndburn's Woodlands
DESCRIPTION:Join Hyndburn’s Woodlands Officer Brandon for weekly practical conservation sessions. This week\, we will be at Jubilee Woodland taking part in some meadow creation! This year\, we have hired a contractor to give the meadow a deep cut which will hopefully improve the amount of wildflower seeds which grow. Tasks include sowing wildflower seeds into the freshly cut meadow. \n\n\nTools\, gloves and PPE will be provided. Please wear sturdy boots\, long sleeves and full length trousers. \nWe will be meeting on Hollins Lane\, BB5 2QY (Just next to The Hollins School) . There is on-street parking available. Staff will be in orange hi-vis. \nTo find out more or confirm your attendance\, please contact Brandon at brandon.cherry@prospectsfoundation.org.uk or 07733 840842 \n\nJubilee – Hyndburn’s Woodlands
URL:https://prospectsfoundation.org.uk/event/jubilee-hyndburns-woodlands-4/
LOCATION:Woodnook Vale LNR – Hollins Ln\, 165 Hollins Lane\, Accrington\, BB5 2QY
CATEGORIES:Conservation,Health and wellbeing,Volunteering
ATTACH;FMTTYPE=image/jpeg:https://prospectsfoundation.org.uk/wp-content/uploads/2025/03/IMG_20241029_143859.jpg
ORGANIZER;CN="Brandon%20Cherry":MAILTO:brandon.cherry@prospectsfoundation.org.uk
END:VEVENT
END:VCALENDAR