BEGIN:VCALENDAR
VERSION:2.0
PRODID:-//Prospects - ECPv5.14.1//NONSGML v1.0//EN
CALSCALE:GREGORIAN
METHOD:PUBLISH
X-WR-CALNAME:Prospects
X-ORIGINAL-URL:https://prospectsfoundation.org.uk
X-WR-CALDESC:Events for Prospects
BEGIN:VTIMEZONE
TZID:Europe/London
BEGIN:DAYLIGHT
TZOFFSETFROM:+0000
TZOFFSETTO:+0100
TZNAME:BST
DTSTART:20210328T010000
END:DAYLIGHT
BEGIN:STANDARD
TZOFFSETFROM:+0100
TZOFFSETTO:+0000
TZNAME:GMT
DTSTART:20211031T010000
END:STANDARD
END:VTIMEZONE
BEGIN:VEVENT
DTSTART;TZID=Europe/London:20211118T100000
DTEND;TZID=Europe/London:20211118T150000
DTSTAMP:20260422T144917
CREATED:20210924T122716Z
LAST-MODIFIED:20210924T122716Z
UID:5735-1637229600-1637247600@prospectsfoundation.org.uk
SUMMARY:Introduction to Coppicing Day 2 - FULLY BOOKED
DESCRIPTION:Coppicing is a traditional woodland management technique\, get involved by attending this two day course to learn the basics. \nContact Gareth – gareth.muir@prospectsfoundation.org.uk to book your place and find out more! \nIntroduction to Coppicing Day 2 – FULLY BOOKED
URL:https://prospectsfoundation.org.uk/event/introduction-to-coppicing-day-2-fully-booked/
LOCATION:Huncoats woodland
CATEGORIES:Conservation,Traditional Crafts,Volunteering,Woodlands
END:VEVENT
END:VCALENDAR