BEGIN:VCALENDAR
VERSION:2.0
PRODID:-//Prospects - ECPv5.14.1//NONSGML v1.0//EN
CALSCALE:GREGORIAN
METHOD:PUBLISH
X-WR-CALNAME:Prospects
X-ORIGINAL-URL:https://prospectsfoundation.org.uk
X-WR-CALDESC:Events for Prospects
BEGIN:VTIMEZONE
TZID:Europe/London
BEGIN:DAYLIGHT
TZOFFSETFROM:+0000
TZOFFSETTO:+0100
TZNAME:BST
DTSTART:20250330T010000
END:DAYLIGHT
BEGIN:STANDARD
TZOFFSETFROM:+0100
TZOFFSETTO:+0000
TZNAME:GMT
DTSTART:20251026T010000
END:STANDARD
END:VTIMEZONE
BEGIN:VEVENT
DTSTART;TZID=Europe/London:20251111T100000
DTEND;TZID=Europe/London:20251111T150000
DTSTAMP:20260422T154209
CREATED:20251028T141025Z
LAST-MODIFIED:20251028T141921Z
UID:15494-1762855200-1762873200@prospectsfoundation.org.uk
SUMMARY:Hyndburn's Woodlands - Woodnook Vale
DESCRIPTION:Join Hyndburn’s Woodlands Officer Brandon for weekly practical conservation sessions. \n\nThis week\, we will be at Woodnook Vale LNR. We’ll be creating habitat piles from the brash left over from the recent felling works. Tasks include using hand tools like loppers and bow saws to create neat habitat piles from felled trees. \nThese will provide nesting and shelter to wildlife around the vale\, this is especially valuable with Winter’s approach. \nWe will be meeting at the Nuttall Street entrance to the site\, BB5 2HW. \n\nTo find out more or confirm your attendance\, please contact Brandon at brandon.cherry@prospectsfoundation.org.uk or 07733 840842 \n\nHyndburn’s Woodlands – Woodnook Vale
URL:https://prospectsfoundation.org.uk/event/hyndburns-woodlands-woodnook-vale/
LOCATION:Woodnook Vale LNR – Nuttall Street\, 115 Nuttall Street\, Accrington
CATEGORIES:Conservation,Health and wellbeing,Outdoor Learning,Volunteering,Woodlands
ATTACH;FMTTYPE=image/jpeg:https://prospectsfoundation.org.uk/wp-content/uploads/2025/10/IMG_20231122_120731.jpg
ORGANIZER;CN="Brandon%20Cherry":MAILTO:brandon.cherry@prospectsfoundation.org.uk
END:VEVENT
END:VCALENDAR