BEGIN:VCALENDAR
VERSION:2.0
PRODID:-//Prospects - ECPv5.14.1//NONSGML v1.0//EN
CALSCALE:GREGORIAN
METHOD:PUBLISH
X-WR-CALNAME:Prospects
X-ORIGINAL-URL:https://prospectsfoundation.org.uk
X-WR-CALDESC:Events for Prospects
BEGIN:VTIMEZONE
TZID:Europe/London
BEGIN:DAYLIGHT
TZOFFSETFROM:+0000
TZOFFSETTO:+0100
TZNAME:BST
DTSTART:20210328T010000
END:DAYLIGHT
BEGIN:STANDARD
TZOFFSETFROM:+0100
TZOFFSETTO:+0000
TZNAME:GMT
DTSTART:20211031T010000
END:STANDARD
END:VTIMEZONE
BEGIN:VEVENT
DTSTART;TZID=Europe/London:20211125T100000
DTEND;TZID=Europe/London:20211125T150000
DTSTAMP:20260422T195323
CREATED:20210924T123928Z
LAST-MODIFIED:20210924T124358Z
UID:5741-1637834400-1637852400@prospectsfoundation.org.uk
SUMMARY:Hyndburn's woodlands - Rushton House Farm
DESCRIPTION:Join Gareth and the Nature Volunteers in Rushton House Farm. \nThere will be a number of practical environmental conservation tasks to get involved with. \nContact Gareth – gareth.muir@prospectsfoundation.org.uk to book your place and to find out more! \nHyndburn’s woodlands – Rushton House Farm
URL:https://prospectsfoundation.org.uk/event/hyndburns-woodlands-rushton-house-farm/
LOCATION:Rushton House Farm\, Broadfield/Rough Hay Lane\, Oswaldtwistle\, BB5 3SF\, United Kingdom
CATEGORIES:Conservation,Volunteering,Woodlands
ORGANIZER;CN="Gareth%20Muir%20-%20Woodlands%20Officer":MAILTO:gareth.muir@prospectsfoundation.org.uk
END:VEVENT
END:VCALENDAR