BEGIN:VCALENDAR
VERSION:2.0
PRODID:-//Prospects - ECPv5.14.1//NONSGML v1.0//EN
CALSCALE:GREGORIAN
METHOD:PUBLISH
X-WR-CALNAME:Prospects
X-ORIGINAL-URL:https://prospectsfoundation.org.uk
X-WR-CALDESC:Events for Prospects
BEGIN:VTIMEZONE
TZID:Europe/London
BEGIN:DAYLIGHT
TZOFFSETFROM:+0000
TZOFFSETTO:+0100
TZNAME:BST
DTSTART:20210328T010000
END:DAYLIGHT
BEGIN:STANDARD
TZOFFSETFROM:+0100
TZOFFSETTO:+0000
TZNAME:GMT
DTSTART:20211031T010000
END:STANDARD
END:VTIMEZONE
BEGIN:VEVENT
DTSTART;TZID=Europe/London:20210930T100000
DTEND;TZID=Europe/London:20210930T150000
DTSTAMP:20260422T173626
CREATED:20210827T104927Z
LAST-MODIFIED:20210827T104927Z
UID:5535-1632996000-1633014000@prospectsfoundation.org.uk
SUMMARY:Hyndburn's Woodlands - Martholme Greenway
DESCRIPTION:Join Gareth and the Nature Volunteers to cut back greenery along Martholme Greenway’s paths to improve access and regrowth. \nContact Gareth – gareth.muir@prospectsfoundation.org.uk to book your place. \nHyndburn’s Woodlands – Martholme Greenway
URL:https://prospectsfoundation.org.uk/event/hyndburns-woodlands-martholme-greenway/
LOCATION:Martholme Greenway\, Martholme Greenway Martholme Lane\, Great Harwood\, Blackburn\, BB6 7UQ
CATEGORIES:Conservation,Traditional Crafts,Volunteering,Woodlands
ORGANIZER;CN="Gareth%20Muir%20-%20Woodlands%20Officer":MAILTO:gareth.muir@prospectsfoundation.org.uk
END:VEVENT
END:VCALENDAR