BEGIN:VCALENDAR
VERSION:2.0
PRODID:-//Prospects - ECPv5.14.1//NONSGML v1.0//EN
CALSCALE:GREGORIAN
METHOD:PUBLISH
X-WR-CALNAME:Prospects
X-ORIGINAL-URL:https://prospectsfoundation.org.uk
X-WR-CALDESC:Events for Prospects
BEGIN:VTIMEZONE
TZID:Europe/London
BEGIN:DAYLIGHT
TZOFFSETFROM:+0000
TZOFFSETTO:+0100
TZNAME:BST
DTSTART:20250330T010000
END:DAYLIGHT
BEGIN:STANDARD
TZOFFSETFROM:+0100
TZOFFSETTO:+0000
TZNAME:GMT
DTSTART:20251026T010000
END:STANDARD
END:VTIMEZONE
BEGIN:VEVENT
DTSTART;TZID=Europe/London:20251202T100000
DTEND;TZID=Europe/London:20251202T150000
DTSTAMP:20260422T113619
CREATED:20251128T100512Z
LAST-MODIFIED:20251128T100512Z
UID:15845-1764669600-1764687600@prospectsfoundation.org.uk
SUMMARY:Hyndburn's Woodlands - Huncoat East
DESCRIPTION:Join Hyndburn’s Woodlands Officer Brandon for weekly practical conservation sessions. \n\nThis week\, we will be at Huncoat East woodland carrying out some coppicing work. This woodland has an abundance of Hazel that is a fair few years out of coppice rotation. We will be using hand tools like bow saws and loppers to properly coppice hazel\, and build ‘dragon’s nests’ around the stool to discourage grazing\, which in turn will promote growth. \nWe will be meeting on the layby on Altham Lane\, BB5 5US (27 Altham Lane on Google Maps\, just after the motorway bridge). \n\nTo find out more or confirm your attendance\, please contact Brandon at brandon.cherry@prospectsfoundation.org.uk or 07733 840842 \n\nHyndburn’s Woodlands – Huncoat East
URL:https://prospectsfoundation.org.uk/event/hyndburns-woodlands-huncoat-east/
LOCATION:Huncoat East Woodland\, 27 Altham Lane\, Accrington\, Lancashire\, BB5 5UR\, United Kingdom
CATEGORIES:Conservation,Health and wellbeing,Outdoor Learning,Volunteering,Woodlands
ATTACH;FMTTYPE=image/jpeg:https://prospectsfoundation.org.uk/wp-content/uploads/2025/11/IMG_20240227_124714.jpg
ORGANIZER;CN="Brandon%20Cherry":MAILTO:brandon.cherry@prospectsfoundation.org.uk
END:VEVENT
END:VCALENDAR