BEGIN:VCALENDAR
VERSION:2.0
PRODID:-//Prospects - ECPv5.14.1//NONSGML v1.0//EN
CALSCALE:GREGORIAN
METHOD:PUBLISH
X-WR-CALNAME:Prospects
X-ORIGINAL-URL:https://prospectsfoundation.org.uk
X-WR-CALDESC:Events for Prospects
BEGIN:VTIMEZONE
TZID:Europe/London
BEGIN:DAYLIGHT
TZOFFSETFROM:+0000
TZOFFSETTO:+0100
TZNAME:BST
DTSTART:20220327T010000
END:DAYLIGHT
BEGIN:STANDARD
TZOFFSETFROM:+0100
TZOFFSETTO:+0000
TZNAME:GMT
DTSTART:20221030T010000
END:STANDARD
END:VTIMEZONE
BEGIN:VEVENT
DTSTART;TZID=Europe/London:20220505T100000
DTEND;TZID=Europe/London:20220505T150000
DTSTAMP:20260422T161901
CREATED:20220412T141756Z
LAST-MODIFIED:20220425T101911Z
UID:6984-1651744800-1651762800@prospectsfoundation.org.uk
SUMMARY:Hyndburn's Woodlands - Whinney Hill
DESCRIPTION:Join Gareth and the Woodland Volunteers for a day of Practical Environmental Conservation! \nContact Gareth – gareth.muir@prospectsfoundation.org.uk for more information or to get involved! \nHyndburn’s Woodlands – Whinney Hill
URL:https://prospectsfoundation.org.uk/event/hyndburns-woodlands-abbot-clough-2/
LOCATION:Whinney Hill Woodland – Livingstone Road/East Crescent BB5 5BX\, Livingstone Road\, Accrington\, BB5 5BX
CATEGORIES:Conservation,Volunteering,Woodlands
END:VEVENT
END:VCALENDAR