BEGIN:VCALENDAR
VERSION:2.0
PRODID:-//Prospects - ECPv5.14.1//NONSGML v1.0//EN
CALSCALE:GREGORIAN
METHOD:PUBLISH
X-WR-CALNAME:Prospects
X-ORIGINAL-URL:https://prospectsfoundation.org.uk
X-WR-CALDESC:Events for Prospects
BEGIN:VTIMEZONE
TZID:Europe/London
BEGIN:DAYLIGHT
TZOFFSETFROM:+0000
TZOFFSETTO:+0100
TZNAME:BST
DTSTART:20190331T010000
END:DAYLIGHT
BEGIN:STANDARD
TZOFFSETFROM:+0100
TZOFFSETTO:+0000
TZNAME:GMT
DTSTART:20191027T010000
END:STANDARD
END:VTIMEZONE
BEGIN:VEVENT
DTSTART;TZID=Europe/London:20191106T100000
DTEND;TZID=Europe/London:20191106T140000
DTSTAMP:20260422T122242
CREATED:20191016T160058Z
LAST-MODIFIED:20191105T163153Z
UID:1655-1573034400-1573048800@prospectsfoundation.org.uk
SUMMARY:HYNDBURN VOLUNTEER WORKPARTY
DESCRIPTION:CanalGenericPoster \n\n\n\nHYNDBURN VOLUNTEER WORK-PARTY with PROSPECTS  & The Canal and River Trust.  Would you like to meet new people\, enjoy some healthy exercise in the great outdoors and make a difference to your local canal?  Our new Hyndburn Volunteer Work Party could just be the thing you are looking for.  Join PROSPECTS as we collaborate with the Canal & River Trust to improve the towpaths through Hyndburn.   \nThis volunteer session will take place alongside the Leeds/Liverpool Peel Bank Bridge 113A\, Church BB5 4EF (near Emerson Renwick Ltd and Studio Arts canal entrance.  Volunteers are needed.  Tasks may include: Litter-clearance\, towpath repairs\, vegetation management\, paining\, plus much more to improve the mooring area…  Wear suitable clothing and footwear.  All tools\, hi Vis and life-jackets will be provided.  Please bring a packed lunch and a drink.\n\n\n\nFor enquiries please contact:  Gary Wilkinson\, Email: gary.wilkinson@canalrivertrust.org.uk  Tel: 07483 341954  or barbara.sharples@prospectsfoundation.org.uk  Tel: 01254 230348 \nHYNDBURN VOLUNTEER WORKPARTY
URL:https://prospectsfoundation.org.uk/event/hyndburn-volunteer-workparty-3/
LOCATION:Leeds/Liverpool Peel Bank Bridge 113A\, Church BB5 4JX\, Church Hall\, Church\, Lancashire\, BB5 4EB\, United Kingdom
CATEGORIES:Canal,Volunteering
END:VEVENT
END:VCALENDAR