BEGIN:VCALENDAR
VERSION:2.0
PRODID:-//Prospects - ECPv5.14.1//NONSGML v1.0//EN
CALSCALE:GREGORIAN
METHOD:PUBLISH
X-WR-CALNAME:Prospects
X-ORIGINAL-URL:https://prospectsfoundation.org.uk
X-WR-CALDESC:Events for Prospects
BEGIN:VTIMEZONE
TZID:Europe/London
BEGIN:DAYLIGHT
TZOFFSETFROM:+0000
TZOFFSETTO:+0100
TZNAME:BST
DTSTART:20190331T010000
END:DAYLIGHT
BEGIN:STANDARD
TZOFFSETFROM:+0100
TZOFFSETTO:+0000
TZNAME:GMT
DTSTART:20191027T010000
END:STANDARD
END:VTIMEZONE
BEGIN:VEVENT
DTSTART;TZID=Europe/London:20191016T100000
DTEND;TZID=Europe/London:20191016T143000
DTSTAMP:20260423T084613
CREATED:20191001T151801Z
LAST-MODIFIED:20191009T100116Z
UID:885-1571220000-1571236200@prospectsfoundation.org.uk
SUMMARY:HYNDBURN VOLUNTEER WORKPARTY
DESCRIPTION:HYNDBURN VOLUNTEER WORKPARTY with PROSPECTS  & The Canal and River Trust.  Would you like to meet new people\, enjoy some healthy exercise in the great outdoors and make a difference to your local canal?  Our new Hyndburn Volunteer Work Party could just be the thing you are looking for.  Join PROSPECTS as we collaborate with the Canal & River Trust to improve the towpaths through Hyndburn.  This workparty will take place alongside the Leeds/Liverpool Peel Bank Bridge 113A\, Church BB5 4EF (near Emerson Renwick Ltd and Studio Arts canal entrance).  Volunteers are needed.  Tasks may include: Litter-clearance\, towpath repairs\, vegetation management\, painting\, plus much more to improve the mooring area…  Wear suitable clothing and footwear.  All tools\, hi Vis and life-jackets will be provided.  Please bring a packed lunch for a picnic at 1:15pm approx. \nFor enquiries please contact:  Gary Wilkinson\, Email: gary.wilkinson@canalrivertrust.org.uk  Tel: 07483 341954  or barbara.sharples@prospectsfoundation.org.uk  Tel: 01254 230348 \nHYNDBURN VOLUNTEER WORKPARTY
URL:https://prospectsfoundation.org.uk/event/hyndburn-volunteer-workparty-2/
CATEGORIES:Canal,Volunteering
END:VEVENT
END:VCALENDAR