BEGIN:VCALENDAR
VERSION:2.0
PRODID:-//Prospects - ECPv5.14.1//NONSGML v1.0//EN
CALSCALE:GREGORIAN
METHOD:PUBLISH
X-WR-CALNAME:Prospects
X-ORIGINAL-URL:https://prospectsfoundation.org.uk
X-WR-CALDESC:Events for Prospects
BEGIN:VTIMEZONE
TZID:Europe/London
BEGIN:DAYLIGHT
TZOFFSETFROM:+0000
TZOFFSETTO:+0100
TZNAME:BST
DTSTART:20190331T010000
END:DAYLIGHT
BEGIN:STANDARD
TZOFFSETFROM:+0100
TZOFFSETTO:+0000
TZNAME:GMT
DTSTART:20191027T010000
END:STANDARD
END:VTIMEZONE
BEGIN:VEVENT
DTSTART;TZID=Europe/London:20191107T193000
DTEND;TZID=Europe/London:20191107T210000
DTSTAMP:20260422T134423
CREATED:20191029T153352Z
LAST-MODIFIED:20191121T151143Z
UID:2010-1573155000-1573160400@prospectsfoundation.org.uk
SUMMARY:HYNDBURN & RIBBLE VALLEY FRIENDS OF THE EARTH MEETING
DESCRIPTION:The local Hyndburn & Ribble Valley Friends of the Earth group will be meeting up to discuss topical issues. \nFeel free to come along and meet the group. \nMeetings start at 7.30pm and are held at the Prospects Environment Centre at 54 Broadway\, Accrington\, BB5 1EW \nHYNDBURN & RIBBLE VALLEY FRIENDS OF THE EARTH MEETING
URL:https://prospectsfoundation.org.uk/event/hyndburn-ribble-valley-friends-of-the-earth-meeting/
LOCATION:PROSPECTS\, 54 Broadway\, Accrington\, Lancashire\, BB5 1EW
CATEGORIES:Volunteering
ATTACH;FMTTYPE=image/jpeg:https://prospectsfoundation.org.uk/wp-content/uploads/2019/10/Friends-of-the-Earth.jpg
END:VEVENT
END:VCALENDAR