BEGIN:VCALENDAR
VERSION:2.0
PRODID:-//Prospects - ECPv5.14.1//NONSGML v1.0//EN
CALSCALE:GREGORIAN
METHOD:PUBLISH
X-WR-CALNAME:Prospects
X-ORIGINAL-URL:https://prospectsfoundation.org.uk
X-WR-CALDESC:Events for Prospects
BEGIN:VTIMEZONE
TZID:Europe/London
BEGIN:DAYLIGHT
TZOFFSETFROM:+0000
TZOFFSETTO:+0100
TZNAME:BST
DTSTART:20220327T010000
END:DAYLIGHT
BEGIN:STANDARD
TZOFFSETFROM:+0100
TZOFFSETTO:+0000
TZNAME:GMT
DTSTART:20221030T010000
END:STANDARD
END:VTIMEZONE
BEGIN:VEVENT
DTSTART;TZID=Europe/London:20220303T100000
DTEND;TZID=Europe/London:20220303T150000
DTSTAMP:20260422T210537
CREATED:20220218T111913Z
LAST-MODIFIED:20220218T111913Z
UID:6741-1646301600-1646319600@prospectsfoundation.org.uk
SUMMARY:Huncoat West Woodland - Hyndburn's woodlands
DESCRIPTION:Join Gareth and the Habitats & Heritage volunteers in Huncoat West woodland for a day of practical environmental conservation! \nContact Gareth – gareth.muir@prospectsfoundation.org.uk for more information and to join in! \nHuncoat West Woodland – Hyndburn’s woodlands
URL:https://prospectsfoundation.org.uk/event/huncoat-west-woodland-hyndburns-woodlands/
LOCATION:Huncoats woodland
CATEGORIES:Conservation,Traditional Crafts,Volunteering
ORGANIZER;CN="Gareth%20Muir%20-%20Woodlands%20Officer":MAILTO:gareth.muir@prospectsfoundation.org.uk
END:VEVENT
END:VCALENDAR