BEGIN:VCALENDAR
VERSION:2.0
PRODID:-//Prospects - ECPv5.14.1//NONSGML v1.0//EN
CALSCALE:GREGORIAN
METHOD:PUBLISH
X-WR-CALNAME:Prospects
X-ORIGINAL-URL:https://prospectsfoundation.org.uk
X-WR-CALDESC:Events for Prospects
BEGIN:VTIMEZONE
TZID:Europe/London
BEGIN:DAYLIGHT
TZOFFSETFROM:+0000
TZOFFSETTO:+0100
TZNAME:BST
DTSTART:20230326T010000
END:DAYLIGHT
BEGIN:STANDARD
TZOFFSETFROM:+0100
TZOFFSETTO:+0000
TZNAME:GMT
DTSTART:20231029T010000
END:STANDARD
END:VTIMEZONE
BEGIN:VEVENT
DTSTART;TZID=Europe/London:20231031T100000
DTEND;TZID=Europe/London:20231031T150000
DTSTAMP:20260423T021640
CREATED:20231003T152543Z
LAST-MODIFIED:20231003T152543Z
UID:10402-1698746400-1698764400@prospectsfoundation.org.uk
SUMMARY:Huncoat West  - Hyndburn's Woodlands
DESCRIPTION:Join the Hyndburn’s Woodlands Volunteers for weekly practical conservation sessions. \nThis week\, we will be back at Huncoat West woodland continuing with the establishment of the ‘wildflower ride’. Tasks include cutting back encroaching vegetation and small tree felling. \nTools\, gloves and PPE will be provided. Please wear sturdy boots\, long sleeves and full length trousers as we may be working around brambles and nettles. Waterproofs may be needed\, depending on the weather. \nWe will be meeting at the layby on 27 Altham Lane\, Accrington\, Lancashire BB5 5UR. There is parking at the 2 laybys adjacent to the woods. \nTo find out more or confirm your attendance\, please contact Brandon at brandon.cherry@prospectsfoundation.org.uk or 07733 840842 \n\nHuncoat West  – Hyndburn’s Woodlands
URL:https://prospectsfoundation.org.uk/event/huncoat-west-hyndburns-woodlands-2/
LOCATION:Huncoat East Woodland\, 27 Altham Lane\, Accrington\, Lancashire\, BB5 5UR\, United Kingdom
CATEGORIES:Health and wellbeing,Outdoor Learning,Volunteering,Woodlands
ATTACH;FMTTYPE=image/jpeg:https://prospectsfoundation.org.uk/wp-content/uploads/2023/10/IMG_20230926_111000.jpg
ORGANIZER;CN="Brandon%20Cherry":MAILTO:brandon.cherry@prospectsfoundation.org.uk
END:VEVENT
END:VCALENDAR