BEGIN:VCALENDAR
VERSION:2.0
PRODID:-//Prospects - ECPv5.14.1//NONSGML v1.0//EN
CALSCALE:GREGORIAN
METHOD:PUBLISH
X-WR-CALNAME:Prospects
X-ORIGINAL-URL:https://prospectsfoundation.org.uk
X-WR-CALDESC:Events for Prospects
BEGIN:VTIMEZONE
TZID:Europe/London
BEGIN:DAYLIGHT
TZOFFSETFROM:+0000
TZOFFSETTO:+0100
TZNAME:BST
DTSTART:20220327T010000
END:DAYLIGHT
BEGIN:STANDARD
TZOFFSETFROM:+0100
TZOFFSETTO:+0000
TZNAME:GMT
DTSTART:20221030T010000
END:STANDARD
END:VTIMEZONE
BEGIN:VEVENT
DTSTART;TZID=Europe/London:20220623T100000
DTEND;TZID=Europe/London:20220623T130000
DTSTAMP:20260422T234840
CREATED:20220520T111449Z
LAST-MODIFIED:20220620T091035Z
UID:7143-1655978400-1655989200@prospectsfoundation.org.uk
SUMMARY:Huncoat East - Hyndburn's Woodlands
DESCRIPTION:Join Gareth and the Woodland Volunteers at Huncoat East Woodland for a day of Practical Environmental Conservation! \nThe session will focus on non-native species management of Himalayan Balsam. \nTo get involved or to find out more please email Gareth – gareth.muir@prospectsfoundation.org.uk \nHuncoat East – Hyndburn’s Woodlands
URL:https://prospectsfoundation.org.uk/event/huncoat-east-hyndburns-woodlands/
LOCATION:Huncoats woodland
CATEGORIES:Conservation,Volunteering,Woodlands
ORGANIZER;CN="Gareth%20Muir%20-%20Woodlands%20Officer":MAILTO:gareth.muir@prospectsfoundation.org.uk
END:VEVENT
END:VCALENDAR