BEGIN:VCALENDAR
VERSION:2.0
PRODID:-//Prospects - ECPv5.14.1//NONSGML v1.0//EN
CALSCALE:GREGORIAN
METHOD:PUBLISH
X-WR-CALNAME:Prospects
X-ORIGINAL-URL:https://prospectsfoundation.org.uk
X-WR-CALDESC:Events for Prospects
BEGIN:VTIMEZONE
TZID:Europe/London
BEGIN:DAYLIGHT
TZOFFSETFROM:+0000
TZOFFSETTO:+0100
TZNAME:BST
DTSTART:20210328T010000
END:DAYLIGHT
BEGIN:STANDARD
TZOFFSETFROM:+0100
TZOFFSETTO:+0000
TZNAME:GMT
DTSTART:20211031T010000
END:STANDARD
END:VTIMEZONE
BEGIN:VEVENT
DTSTART;TZID=Europe/London:20210720T130000
DTEND;TZID=Europe/London:20210720T160000
DTSTAMP:20260423T045839
CREATED:20210623T075043Z
LAST-MODIFIED:20210707T163859Z
UID:5096-1626786000-1626796800@prospectsfoundation.org.uk
SUMMARY:Guided Walk - Church And Clayton
DESCRIPTION:Re-organised due to poor weather on a previous date.  Places still available. \nJoin us for this 5.5 miles walk through the countryside around Church and Clayton via the old railway and canal.  This guided circular walk will explore the historic features of the landscape and woodlands.  There are no stiles on this walk.  Appropriate footwear will be necessary e.g. walking boots or trainers.  Please bring your own bottle of water. \nDue to Covid Restrictions\, please book a place by emailing Danielle at danielle.rowlands@prospectsfoundation.org.uk \nGuided Walk – Church And Clayton
URL:https://prospectsfoundation.org.uk/event/guided-walk-church-and-clayton/
LOCATION:Church Kirk Canal Bridge 112
CATEGORIES:Canal,Outdoor Learning,Walking
ORGANIZER;CN="Danielle%20Rowlands%2C%20Outdoor%20Learning%20Officer":MAILTO:danielle.rowlands@prospectsfoundation.org.uk
END:VEVENT
END:VCALENDAR