BEGIN:VCALENDAR
VERSION:2.0
PRODID:-//Prospects - ECPv5.14.1//NONSGML v1.0//EN
CALSCALE:GREGORIAN
METHOD:PUBLISH
X-WR-CALNAME:Prospects
X-ORIGINAL-URL:https://prospectsfoundation.org.uk
X-WR-CALDESC:Events for Prospects
BEGIN:VTIMEZONE
TZID:Europe/London
BEGIN:DAYLIGHT
TZOFFSETFROM:+0000
TZOFFSETTO:+0100
TZNAME:BST
DTSTART:20240331T010000
END:DAYLIGHT
BEGIN:STANDARD
TZOFFSETFROM:+0100
TZOFFSETTO:+0000
TZNAME:GMT
DTSTART:20241027T010000
END:STANDARD
END:VTIMEZONE
BEGIN:VEVENT
DTSTART;TZID=Europe/London:20240814T100000
DTEND;TZID=Europe/London:20240814T120000
DTSTAMP:20260423T193710
CREATED:20240705T151545Z
LAST-MODIFIED:20240716T101357Z
UID:12383-1723629600-1723636800@prospectsfoundation.org.uk
SUMMARY:Guided Walk  and Coffee Morning at Brookside\, Oswaldtwistle
DESCRIPTION:Join our Brookside Restoration Coordinator Alice for a guided  walk around the brand new Brookside Site\, followed by teas\, coffees\, and cake at the Stanhill Methodist Church. \nWe will be taking a scenic stroll around the forests\, meadows\, and lodges around the site\, enjoying the beautiful views and admiring the many species of trees and plants. \nThe route will take between 60 and 90 minutes and will keep mostly on paths\, but some areas may be boggy or overgrown. Unfortunately\, the route is not suitable for pushchairs or those who use mobility aids. The pace will be gentle and to suit all who wish to join. \nThe meeting point is the Kemp Delph entrance to Brookside\, on Stanhill Road. Staff will be in orange hi-vis. \nLimited parking is available but please consider taking public transport – the 6A and 7A bus stop right by the gate! \nWhat3words: crowned.sits.paths  \n\nAll ages welcome but under 18s must be accompanied by a parent or guardian\nBug spray and sun cream are recommended\nPlease wear suitable outdoor clothes (long trousers advised) and walking shoes/wellies to walk in.\n\nThere are no toilets on site\, but the church has full facilities. \nTo find out more or confirm your attendance\, please contact Alice at alice.pooley@prospectsfoundation.org.uk\, telephone 01254 230348\, or call into the Prospects office at 54 Broadway\, Accrington\, BB5 1EW. \n  \nGuided Walk  and Coffee Morning at Brookside\, Oswaldtwistle
URL:https://prospectsfoundation.org.uk/event/guided-walk-and-coffee-morning-at-brookside-oswaldtwistle/
LOCATION:Brookside\, Stanhill Road\, Oswaldtwistle\, BB5 4PP
CATEGORIES:Conservation,Health and wellbeing,Volunteering,Woodlands
ATTACH;FMTTYPE=image/jpeg:https://prospectsfoundation.org.uk/wp-content/uploads/2024/07/20240530_131735-scaled.jpg
ORGANIZER;CN="Alice%20Pooley":MAILTO:alice.pooley@prospectsfoundation.org.uk
END:VEVENT
END:VCALENDAR