BEGIN:VCALENDAR
VERSION:2.0
PRODID:-//Prospects - ECPv5.14.1//NONSGML v1.0//EN
CALSCALE:GREGORIAN
METHOD:PUBLISH
X-WR-CALNAME:Prospects
X-ORIGINAL-URL:https://prospectsfoundation.org.uk
X-WR-CALDESC:Events for Prospects
BEGIN:VTIMEZONE
TZID:Europe/London
BEGIN:DAYLIGHT
TZOFFSETFROM:+0000
TZOFFSETTO:+0100
TZNAME:BST
DTSTART:20200329T010000
END:DAYLIGHT
BEGIN:STANDARD
TZOFFSETFROM:+0100
TZOFFSETTO:+0000
TZNAME:GMT
DTSTART:20201025T010000
END:STANDARD
END:VTIMEZONE
BEGIN:VEVENT
DTSTART;TZID=Europe/London:20200311T100000
DTEND;TZID=Europe/London:20200311T130000
DTSTAMP:20260422T111403
CREATED:20200220T172947Z
LAST-MODIFIED:20200220T174151Z
UID:2835-1583920800-1583931600@prospectsfoundation.org.uk
SUMMARY:GROWING WILD COMMUNITY ALLOTMENT VOLUNTEER WORKPARTY IN BAXENDEN
DESCRIPTION:Join Prospects and Growing Wild to help with site maintenance including fruit tree pruning\, preparing the raised beds for spring planting and cutting back along the footpaths. Please bring waterproofs/warm clothes and boots/wellies. Tools provided. \n  \n  \nGROWING WILD COMMUNITY ALLOTMENT VOLUNTEER WORKPARTY IN BAXENDEN
URL:https://prospectsfoundation.org.uk/event/growing-wild-community-allotment-volunteer-workparty-in-baxenden-2/
LOCATION:GrOwING WILD Community Allotment\, Hill Street\, Baxenden\, BB5 2RB\, United Kingdom
CATEGORIES:Food Growing,Gardening,Volunteering
ORGANIZER;CN="Julie%20Livesey%20at%20Prospects":MAILTO:julie.livesey@prospectsfoundation.org.uk
END:VEVENT
END:VCALENDAR