BEGIN:VCALENDAR
VERSION:2.0
PRODID:-//Prospects - ECPv5.14.1//NONSGML v1.0//EN
CALSCALE:GREGORIAN
METHOD:PUBLISH
X-WR-CALNAME:Prospects
X-ORIGINAL-URL:https://prospectsfoundation.org.uk
X-WR-CALDESC:Events for Prospects
BEGIN:VTIMEZONE
TZID:Europe/London
BEGIN:DAYLIGHT
TZOFFSETFROM:+0000
TZOFFSETTO:+0100
TZNAME:BST
DTSTART:20220327T010000
END:DAYLIGHT
BEGIN:STANDARD
TZOFFSETFROM:+0100
TZOFFSETTO:+0000
TZNAME:GMT
DTSTART:20221030T010000
END:STANDARD
END:VTIMEZONE
BEGIN:VEVENT
DTSTART;TZID=Europe/London:20220614T100000
DTEND;TZID=Europe/London:20220614T123000
DTSTAMP:20260422T133341
CREATED:20220520T104654Z
LAST-MODIFIED:20220520T104654Z
UID:7127-1655200800-1655209800@prospectsfoundation.org.uk
SUMMARY:GrOwING WILD Community Allotment - Rewilding
DESCRIPTION:Join Gareth and the Rewilding Volunteers at Growing Wild Community Allotment\, Baxenden for a spot of gardening and practical environmental conservation \nTasks will include; seed sowing\, composting and balsam pulling! \nTo get involved or for more information contact Gareth – gareth.muir@prospectsfoundation.org.uk \nGrOwING WILD Community Allotment – Rewilding
URL:https://prospectsfoundation.org.uk/event/growing-wild-community-allotment-rewilding-4/
LOCATION:GrOwING WILD Community Allotment\, Hill Street\, Baxenden\, BB5 2RB\, United Kingdom
CATEGORIES:Conservation,Food Growing,Gardening,Health and wellbeing,Volunteering
ORGANIZER;CN="Gareth%20Muir%20-%20Rewilding%20Officer":MAILTO:gareth.muir@prospectsfoundation.org.uk
END:VEVENT
END:VCALENDAR