BEGIN:VCALENDAR
VERSION:2.0
PRODID:-//Prospects - ECPv5.14.1//NONSGML v1.0//EN
CALSCALE:GREGORIAN
METHOD:PUBLISH
X-WR-CALNAME:Prospects
X-ORIGINAL-URL:https://prospectsfoundation.org.uk
X-WR-CALDESC:Events for Prospects
BEGIN:VTIMEZONE
TZID:Europe/London
BEGIN:DAYLIGHT
TZOFFSETFROM:+0000
TZOFFSETTO:+0100
TZNAME:BST
DTSTART:20190331T010000
END:DAYLIGHT
BEGIN:STANDARD
TZOFFSETFROM:+0100
TZOFFSETTO:+0000
TZNAME:GMT
DTSTART:20191027T010000
END:STANDARD
END:VTIMEZONE
BEGIN:VEVENT
DTSTART;TZID=Europe/London:20191218T100000
DTEND;TZID=Europe/London:20191218T130000
DTSTAMP:20260422T120558
CREATED:20191127T173609Z
LAST-MODIFIED:20191216T161110Z
UID:2360-1576663200-1576674000@prospectsfoundation.org.uk
SUMMARY:GROWING WILD COMMUNITY ALLOTMENT IN BAXENDEN Volunteer Workparty
DESCRIPTION:Prospects and Growing Wild will be holding a volunteer morning at the Community Allotment to cut back along the paths\, trim the living willow tunnel and mulch the raised beds. Please bring waterproofs and boots/wellies. Grid Reference: SD767267 \nPlease click on the image below to open a full size version of the poster. \n \nGROWING WILD COMMUNITY ALLOTMENT IN BAXENDEN Volunteer Workparty
URL:https://prospectsfoundation.org.uk/event/growing-wild-community-allotment-in-baxenden/
LOCATION:GrOwING WILD Community Allotment\, Hill Street\, Baxenden\, BB5 2RB\, United Kingdom
CATEGORIES:Food Growing,Gardening,Volunteering
ORGANIZER;CN="Activity%20Organiser":MAILTO:barbara.sharples@prospectsfoundation.org.uk
END:VEVENT
END:VCALENDAR