BEGIN:VCALENDAR
VERSION:2.0
PRODID:-//Prospects - ECPv5.14.1//NONSGML v1.0//EN
CALSCALE:GREGORIAN
METHOD:PUBLISH
X-WR-CALNAME:Prospects
X-ORIGINAL-URL:https://prospectsfoundation.org.uk
X-WR-CALDESC:Events for Prospects
BEGIN:VTIMEZONE
TZID:Europe/London
BEGIN:DAYLIGHT
TZOFFSETFROM:+0000
TZOFFSETTO:+0100
TZNAME:BST
DTSTART:20200329T010000
END:DAYLIGHT
BEGIN:STANDARD
TZOFFSETFROM:+0100
TZOFFSETTO:+0000
TZNAME:GMT
DTSTART:20201025T010000
END:STANDARD
END:VTIMEZONE
BEGIN:VEVENT
DTSTART;TZID=Europe/London:20200219T100000
DTEND;TZID=Europe/London:20200219T120000
DTSTAMP:20260422T133540
CREATED:20191211T161348Z
LAST-MODIFIED:20200103T113305Z
UID:2476-1582106400-1582113600@prospectsfoundation.org.uk
SUMMARY:GROWING WILD COMMUNITY ALLOTMENT FAMILY ACTIVITY IN BAXENDEN
DESCRIPTION:Join Prospects and Growing Wild for a family activity on the community allotment to dig the raised beds and plant up early veg. Please bring waterproofs\, warm clothes and wellies/boots. \nPlease click on the image below to open a full size version of the poster. \n \nGROWING WILD COMMUNITY ALLOTMENT FAMILY ACTIVITY IN BAXENDEN
URL:https://prospectsfoundation.org.uk/event/growing-wild-community-allotment-family-activity-in-baxenden/
LOCATION:GrOwING WILD Community Allotment\, Hill Street\, Baxenden\, BB5 2RB\, United Kingdom
CATEGORIES:Family,Food Growing,Gardening
ORGANIZER;CN="Julie%20Livesey%20at%20Prospects":MAILTO:julie.livesey@prospectsfoundation.org.uk
END:VEVENT
END:VCALENDAR