BEGIN:VCALENDAR
VERSION:2.0
PRODID:-//Prospects - ECPv5.14.1//NONSGML v1.0//EN
CALSCALE:GREGORIAN
METHOD:PUBLISH
X-WR-CALNAME:Prospects
X-ORIGINAL-URL:https://prospectsfoundation.org.uk
X-WR-CALDESC:Events for Prospects
BEGIN:VTIMEZONE
TZID:Europe/London
BEGIN:DAYLIGHT
TZOFFSETFROM:+0000
TZOFFSETTO:+0100
TZNAME:BST
DTSTART:20220327T010000
END:DAYLIGHT
BEGIN:STANDARD
TZOFFSETFROM:+0100
TZOFFSETTO:+0000
TZNAME:GMT
DTSTART:20221030T010000
END:STANDARD
END:VTIMEZONE
BEGIN:VEVENT
DTSTART;TZID=Europe/London:20220622T100000
DTEND;TZID=Europe/London:20220622T130000
DTSTAMP:20260423T020313
CREATED:20220531T162810Z
LAST-MODIFIED:20220531T162943Z
UID:7206-1655892000-1655902800@prospectsfoundation.org.uk
SUMMARY:Green Team Volunteering
DESCRIPTION:Join our new ‘Green Team’ of conservation volunteers led by our Green Spaces staff members: Helen\, Brandon & Chloe. \nThis month we are concentrating on Himalayan Balsam removal at Woodnook Vale Nature Reserve 10am – 1pm. Make sure to wear sturdy boots\, a long sleeved top and long trousers as we will be working around nettles and brambles. Wellies aren’t required but may be useful if you want to pull out balsam from the ditches! \nTo book a place or find out more contact Helen at helen.earnshaw@prospectsfoundation.org.uk\, telephone 01254 230348 or call into the Prospects office at 54 Broadway\, Accrington. \nGreen Team Volunteering
URL:https://prospectsfoundation.org.uk/event/green-team-volunteering-2/
LOCATION:Woodnook Vale Nature Reserve\, Nuttall Street\, Accrington\, BB5 2HW
CATEGORIES:Conservation,Health and wellbeing,Volunteering,Walking,Woodlands
ORGANIZER;CN="Helen%20Earnshaw%20-%20Green%20Spaces%20Officer":MAILTO:helen.earnshaw@prospectsfoundation.org.uk
END:VEVENT
END:VCALENDAR