BEGIN:VCALENDAR
VERSION:2.0
PRODID:-//Prospects - ECPv5.14.1//NONSGML v1.0//EN
CALSCALE:GREGORIAN
METHOD:PUBLISH
X-WR-CALNAME:Prospects
X-ORIGINAL-URL:https://prospectsfoundation.org.uk
X-WR-CALDESC:Events for Prospects
BEGIN:VTIMEZONE
TZID:Europe/London
BEGIN:DAYLIGHT
TZOFFSETFROM:+0000
TZOFFSETTO:+0100
TZNAME:BST
DTSTART:20250330T010000
END:DAYLIGHT
BEGIN:STANDARD
TZOFFSETFROM:+0100
TZOFFSETTO:+0000
TZNAME:GMT
DTSTART:20251026T010000
END:STANDARD
END:VTIMEZONE
BEGIN:VEVENT
DTSTART;TZID=Europe/London:20250707T100000
DTEND;TZID=Europe/London:20250707T150000
DTSTAMP:20260420T065538
CREATED:20250530T095146Z
LAST-MODIFIED:20250530T101740Z
UID:14503-1751882400-1751900400@prospectsfoundation.org.uk
SUMMARY:Grassland Survey | Hyndburn's Nature Reserve Volunteers session @Peel Park and the Coppice LNR
DESCRIPTION:Map showing the meeting point at Peel Park & the Coppice LNR. Click the image to be taken to the map.\nWant to learn more about what makes a grassland healthy? Join us for a special volunteer session where we will be assessing the quality of Pleck Meadow. It will be a great opportunity to test or improve your wildflower and plant knowledge! \nThis will be a longer session (10am-3pm) so please bring lunch if you intend to stay for the whole survey. \nJoin us for our new Hyndburn’s Nature Reserves project! There will be weekly conservation volunteers sessions at Peel Park and the Coppice Local Nature Reserve\, every Monday from 10am – 1pm. Come along to learn new skills\, meet people\, keep fit and help wildlife! \nTo express your interest or find out more\, email robert.gabryszak@prospectsfoundation.org.uk\, telephone 01254 230348 or call into the Prospects office at 54 Broadway\, Accrington \n  \nGrassland Survey | Hyndburn’s Nature Reserve Volunteers session @Peel Park and the Coppice LNR
URL:https://prospectsfoundation.org.uk/event/grassland-condition-assessment-hyndburns-nature-reserve-volunteers-session-peel-park-and-the-coppice-lnr/
LOCATION:Peel Park and the Coppice Local Nature Reserve\, Main car park off Peel Park Avenue (next to the bowling green)\, Accrington\, Lancashire\, BB5 6HL\, United Kingdom
CATEGORIES:Conservation,Health and wellbeing,Peel Park and the Coppice LNR,Volunteering
ATTACH;FMTTYPE=image/png:https://prospectsfoundation.org.uk/wp-content/uploads/2025/05/March-2025-Posters-e1748600205323.png
ORGANIZER;CN="Robert%20Gabryszak%20-%20LNR%20Project%20Officer":MAILTO:robert.gabryszak@prospectsfoundation.org.uk
END:VEVENT
END:VCALENDAR