BEGIN:VCALENDAR
VERSION:2.0
PRODID:-//Prospects - ECPv5.14.1//NONSGML v1.0//EN
CALSCALE:GREGORIAN
METHOD:PUBLISH
X-WR-CALNAME:Prospects
X-ORIGINAL-URL:https://prospectsfoundation.org.uk
X-WR-CALDESC:Events for Prospects
BEGIN:VTIMEZONE
TZID:Europe/London
BEGIN:DAYLIGHT
TZOFFSETFROM:+0000
TZOFFSETTO:+0100
TZNAME:BST
DTSTART:20190331T010000
END:DAYLIGHT
BEGIN:STANDARD
TZOFFSETFROM:+0100
TZOFFSETTO:+0000
TZNAME:GMT
DTSTART:20191027T010000
END:STANDARD
END:VTIMEZONE
BEGIN:VEVENT
DTSTART;TZID=Europe/London:20191001T100000
DTEND;TZID=Europe/London:20191001T120000
DTSTAMP:20260422T094648
CREATED:20191001T143917Z
LAST-MODIFIED:20191001T153712Z
UID:857-1569924000-1569931200@prospectsfoundation.org.uk
SUMMARY:GARDENING CLUB
DESCRIPTION:GARDENING CLUB – Accrington Women’s Centre Gardening Club is a small friendly group that meet for a chat and a brew and to have a go at growing their own food and plants for the home\, a garden or on a windowsill. Plus tidying the garden and using vegetables to make chutney.  Please bring clean jars.  They meet on the first Tuesday of every month at the Lancashire Women’s Centre\, 21-23 Blackburn Road\, Accrington BB5 1LF.  For more information or a chat please contact Julie on 07799 295233 or email Julie.livesey@prospectsfoundation.org.uk \nGARDENING CLUB
URL:https://prospectsfoundation.org.uk/event/gardening-club/
CATEGORIES:Gardening
END:VEVENT
END:VCALENDAR