BEGIN:VCALENDAR
VERSION:2.0
PRODID:-//Prospects - ECPv5.14.1//NONSGML v1.0//EN
CALSCALE:GREGORIAN
METHOD:PUBLISH
X-WR-CALNAME:Prospects
X-ORIGINAL-URL:https://prospectsfoundation.org.uk
X-WR-CALDESC:Events for Prospects
BEGIN:VTIMEZONE
TZID:Europe/London
BEGIN:DAYLIGHT
TZOFFSETFROM:+0000
TZOFFSETTO:+0100
TZNAME:BST
DTSTART:20210328T010000
END:DAYLIGHT
BEGIN:STANDARD
TZOFFSETFROM:+0100
TZOFFSETTO:+0000
TZNAME:GMT
DTSTART:20211031T010000
END:STANDARD
END:VTIMEZONE
BEGIN:VEVENT
DTSTART;TZID=Europe/London:20210811T100000
DTEND;TZID=Europe/London:20210811T123000
DTSTAMP:20260423T020222
CREATED:20210803T172755Z
LAST-MODIFIED:20210803T172945Z
UID:5355-1628676000-1628685000@prospectsfoundation.org.uk
SUMMARY:Gardening Club
DESCRIPTION:Join us in the Carers Link Community Garden.  On the second Monday of every month\, we meet up for a brew and a chat about all things gardening.  This month we will be discussing the big butterfly count and gardening for butterflies. \nTime:  10am-12:30pm\nLocation:  Carer Link Community Garden\, 54-56 Blackburn Road\, Accrington BB5 1LE\nNo booking necessary! \nGardening Club
URL:https://prospectsfoundation.org.uk/event/gardening-club-2/
LOCATION:Carers Link\, 54-56 Blackburn Road\, Accrington\, BB5 1LE\, United Kingdom
CATEGORIES:Conservation,Food Growing,Gardening,Outdoor Learning
ATTACH;FMTTYPE=image/png:https://prospectsfoundation.org.uk/wp-content/uploads/2021/08/Carers-Link.png
ORGANIZER;CN="Danielle%20Rowlands%2C%20Outdoor%20Learning%20Officer":MAILTO:danielle.rowlands@prospectsfoundation.org.uk
END:VEVENT
END:VCALENDAR