BEGIN:VCALENDAR
VERSION:2.0
PRODID:-//Prospects - ECPv5.14.1//NONSGML v1.0//EN
CALSCALE:GREGORIAN
METHOD:PUBLISH
X-WR-CALNAME:Prospects
X-ORIGINAL-URL:https://prospectsfoundation.org.uk
X-WR-CALDESC:Events for Prospects
BEGIN:VTIMEZONE
TZID:Europe/London
BEGIN:DAYLIGHT
TZOFFSETFROM:+0000
TZOFFSETTO:+0100
TZNAME:BST
DTSTART:20210328T010000
END:DAYLIGHT
BEGIN:STANDARD
TZOFFSETFROM:+0100
TZOFFSETTO:+0000
TZNAME:GMT
DTSTART:20211031T010000
END:STANDARD
END:VTIMEZONE
BEGIN:VEVENT
DTSTART;TZID=Europe/London:20211012T100000
DTEND;TZID=Europe/London:20211012T120000
DTSTAMP:20260423T050446
CREATED:20210913T124126Z
LAST-MODIFIED:20210913T124126Z
UID:5632-1634032800-1634040000@prospectsfoundation.org.uk
SUMMARY:Fungal Foray - Baxenden
DESCRIPTION:Join Danielle and Gareth with a special guest leading a ‘Fungal Foray’ around Baxenden. \nMore details to follow\, please contact Gareth – gareth.muir@prospectsfoundation.org.uk to register your interest. \nFungal Foray – Baxenden
URL:https://prospectsfoundation.org.uk/event/fungal-foray-baxenden/
CATEGORIES:Outdoor Learning,Volunteering,Walking
ORGANIZER;CN="Gareth%20Muir%20-%20Rewilding%20Officer":MAILTO:gareth.muir@prospectsfoundation.org.uk
END:VEVENT
END:VCALENDAR