BEGIN:VCALENDAR
VERSION:2.0
PRODID:-//Prospects - ECPv5.14.1//NONSGML v1.0//EN
CALSCALE:GREGORIAN
METHOD:PUBLISH
X-WR-CALNAME:Prospects
X-ORIGINAL-URL:https://prospectsfoundation.org.uk
X-WR-CALDESC:Events for Prospects
BEGIN:VTIMEZONE
TZID:Europe/London
BEGIN:DAYLIGHT
TZOFFSETFROM:+0000
TZOFFSETTO:+0100
TZNAME:BST
DTSTART:20250330T010000
END:DAYLIGHT
BEGIN:STANDARD
TZOFFSETFROM:+0100
TZOFFSETTO:+0000
TZNAME:GMT
DTSTART:20251026T010000
END:STANDARD
END:VTIMEZONE
BEGIN:VEVENT
DTSTART;TZID=Europe/London:20251115T093000
DTEND;TZID=Europe/London:20251115T113000
DTSTAMP:20260422T141926
CREATED:20251031T104612Z
LAST-MODIFIED:20251103T114801Z
UID:15522-1763199000-1763206200@prospectsfoundation.org.uk
SUMMARY:Friends Of Arden Hall & The Coppice Monthly Volunteer Session @Peel Park and the Coppice LNR
DESCRIPTION:The Friends of Arden Hall & The Coppice are running monthly volunteer sessions to get the community involved at Peel Park & the Coppice LNR. \nOn Saturday 15th November\, (9:30am-11:30am\,) the Friends group will be creating habitat piles. This involves piling up logs\, sticks\, and other cut vegetation which invertebrates\, amphibians\, small mammals\, and birds can use for food and shelter. Family-friendly and a great opportunity to explore the heathland this autumn. There will be brews and refreshments afterwards. \nMeet in the car park next to the bowling green. \nPlease contact robert.gabryszak@prospectsfoundation.org.uk if you would like to take part. \n  \nFriends Of Arden Hall & The Coppice Monthly Volunteer Session @Peel Park and the Coppice LNR
URL:https://prospectsfoundation.org.uk/event/friends-of-arden-hall-the-coppice-monthly-volunteer-session-peel-park-and-the-coppice-lnr-2/
LOCATION:Peel Park and the Coppice Local Nature Reserve\, Main car park off Peel Park Avenue (next to the bowling green)\, Accrington\, Lancashire\, BB5 6HL\, United Kingdom
CATEGORIES:Conservation,Health and wellbeing,Peel Park and the Coppice LNR,Volunteering
ATTACH;FMTTYPE=image/png:https://prospectsfoundation.org.uk/wp-content/uploads/2024/11/PEEL-PARK-the-COPPICE-LNR.png
ORGANIZER;CN="Robert%20Gabryszak%20-%20LNR%20Project%20Officer":MAILTO:robert.gabryszak@prospectsfoundation.org.uk
END:VEVENT
END:VCALENDAR