BEGIN:VCALENDAR
VERSION:2.0
PRODID:-//Prospects - ECPv5.14.1//NONSGML v1.0//EN
CALSCALE:GREGORIAN
METHOD:PUBLISH
X-WR-CALNAME:Prospects
X-ORIGINAL-URL:https://prospectsfoundation.org.uk
X-WR-CALDESC:Events for Prospects
BEGIN:VTIMEZONE
TZID:Europe/London
BEGIN:DAYLIGHT
TZOFFSETFROM:+0000
TZOFFSETTO:+0100
TZNAME:BST
DTSTART:20220327T010000
END:DAYLIGHT
BEGIN:STANDARD
TZOFFSETFROM:+0100
TZOFFSETTO:+0000
TZNAME:GMT
DTSTART:20221030T010000
END:STANDARD
END:VTIMEZONE
BEGIN:VEVENT
DTSTART;VALUE=DATE:20220317
DTEND;VALUE=DATE:20220318
DTSTAMP:20260422T110335
CREATED:20210715T102223Z
LAST-MODIFIED:20211021T092200Z
UID:5207-1647475200-1647561599@prospectsfoundation.org.uk
SUMMARY:Frame Basket Weaving Workshop
DESCRIPTION:Join Joe Gregory from Creative Nature to make a willow frame basket!  \nThe 1 day session will be held all day on Thursday 17th March at Oakhill Park please email: gareth.muir@prospectsfoundation.org.uk to book your place.  \nChildren aged 13+ may attend with a responsible adult on a 1:1 basis. \nThe venue and times are subject to change\, you will be notified prior to the workshop should this occur. \nThis workshop is FREE\, please consider signing up as a volunteer with PROSPECTS Foundation and joining our email Newsletter list to support us with our work in Hyndburn. \nLink can be found here: https://prospectsfoundation.org.uk/volunteering-application-form \nbasket with hands\nFrame Basket Weaving Workshop
URL:https://prospectsfoundation.org.uk/event/frame-basket-weaving-workshop/
LOCATION:Oakhill Park\, Accrington BB5 2NY\, 113 Manchester Rd\, Accrington\, Lancashire\, BB5 2NY\, United Kingdom
CATEGORIES:Traditional Crafts
ORGANIZER;CN="Gareth%20Muir%20-%20Woodlands%20Officer":MAILTO:gareth.muir@prospectsfoundation.org.uk
END:VEVENT
END:VCALENDAR