BEGIN:VCALENDAR
VERSION:2.0
PRODID:-//Prospects - ECPv5.14.1//NONSGML v1.0//EN
CALSCALE:GREGORIAN
METHOD:PUBLISH
X-WR-CALNAME:Prospects
X-ORIGINAL-URL:https://prospectsfoundation.org.uk
X-WR-CALDESC:Events for Prospects
BEGIN:VTIMEZONE
TZID:Europe/London
BEGIN:DAYLIGHT
TZOFFSETFROM:+0000
TZOFFSETTO:+0100
TZNAME:BST
DTSTART:20220327T010000
END:DAYLIGHT
BEGIN:STANDARD
TZOFFSETFROM:+0100
TZOFFSETTO:+0000
TZNAME:GMT
DTSTART:20221030T010000
END:STANDARD
END:VTIMEZONE
BEGIN:VEVENT
DTSTART;TZID=Europe/London:20220511T100000
DTEND;TZID=Europe/London:20220511T130000
DTSTAMP:20260423T021004
CREATED:20220412T142452Z
LAST-MODIFIED:20220412T142452Z
UID:6993-1652263200-1652274000@prospectsfoundation.org.uk
SUMMARY:Foraging Walk with Danielle Kay - Medical Herbalist
DESCRIPTION:Join Danielle for a Spring Foraging walk! \nVenue to be confirmed. \nContact Gareth – gareth.muir@prospectsfoundation.org.uk to book your place! \nForaging Walk with Danielle Kay – Medical Herbalist
URL:https://prospectsfoundation.org.uk/event/foraging-walk-with-danielle-kay-medical-herbalist/
CATEGORIES:Traditional Crafts
END:VEVENT
END:VCALENDAR