BEGIN:VCALENDAR
VERSION:2.0
PRODID:-//Prospects - ECPv5.14.1//NONSGML v1.0//EN
CALSCALE:GREGORIAN
METHOD:PUBLISH
X-WR-CALNAME:Prospects
X-ORIGINAL-URL:https://prospectsfoundation.org.uk
X-WR-CALDESC:Events for Prospects
BEGIN:VTIMEZONE
TZID:Europe/London
BEGIN:DAYLIGHT
TZOFFSETFROM:+0000
TZOFFSETTO:+0100
TZNAME:BST
DTSTART:20220327T010000
END:DAYLIGHT
BEGIN:STANDARD
TZOFFSETFROM:+0100
TZOFFSETTO:+0000
TZNAME:GMT
DTSTART:20221030T010000
END:STANDARD
END:VTIMEZONE
BEGIN:VEVENT
DTSTART;TZID=Europe/London:20220223T130000
DTEND;TZID=Europe/London:20220223T150000
DTSTAMP:20260423T063747
CREATED:20220201T153328Z
LAST-MODIFIED:20220208T133351Z
UID:6706-1645621200-1645628400@prospectsfoundation.org.uk
SUMMARY:First signs of spring - health and wellbeing walk
DESCRIPTION:Join us for a gentle stroll at Peel Park and the Coppice Local Nature Reserve looking for the first signs of spring\, including spring flowers\, tree budbursts\, butterflies and nest building birds. \nWe’ll record our sightings on the Woodland Trust’s Nature’s Calendar database\, which tracks natural events across the country to help monitor the effects of weather and climate change on wildlife. \nWhen: Wednesday 23rd February 2022\, 1pm – 3pm\nWhere: Peel Park and the Coppice Local Nature Reserve\, Accrington\nWalk length: approx. 2 km (1.25 miles)\, avoiding steep sections\, walking at a gentle pace with regular stopping points. \nTo book a place email gemma.mcmullan@prospectsfoundation.org.uk\, phone 01254 230348 or call into the Prospects office at 54 Broadway\, Accrington. \nFirst signs of spring – health and wellbeing walk
URL:https://prospectsfoundation.org.uk/event/first-signs-of-spring-health-and-wellbeing-walk/
LOCATION:Peel Park and the Coppice Local Nature Reserve\, Main car park off Peel Park Avenue (next to the bowling green)\, Accrington\, Lancashire\, BB5 6HL\, United Kingdom
CATEGORIES:Health and wellbeing,Peel Park and the Coppice LNR,Walking
ATTACH;FMTTYPE=image/png:https://prospectsfoundation.org.uk/wp-content/uploads/2022/02/First-signs-of-spring-walk-image-small.png
ORGANIZER;CN="Gemma%20McMullan":MAILTO:gemma.mcmullan@prospectsfoundation.org.uk
END:VEVENT
END:VCALENDAR