BEGIN:VCALENDAR
VERSION:2.0
PRODID:-//Prospects - ECPv5.14.1//NONSGML v1.0//EN
CALSCALE:GREGORIAN
METHOD:PUBLISH
X-WR-CALNAME:Prospects
X-ORIGINAL-URL:https://prospectsfoundation.org.uk
X-WR-CALDESC:Events for Prospects
BEGIN:VTIMEZONE
TZID:Europe/London
BEGIN:DAYLIGHT
TZOFFSETFROM:+0000
TZOFFSETTO:+0100
TZNAME:BST
DTSTART:20190331T010000
END:DAYLIGHT
BEGIN:STANDARD
TZOFFSETFROM:+0100
TZOFFSETTO:+0000
TZNAME:GMT
DTSTART:20191027T010000
END:STANDARD
END:VTIMEZONE
BEGIN:VEVENT
DTSTART;TZID=Europe/London:20191013T100000
DTEND;TZID=Europe/London:20191013T150000
DTSTAMP:20260423T001005
CREATED:20191001T150538Z
LAST-MODIFIED:20191001T150606Z
UID:875-1570960800-1570978800@prospectsfoundation.org.uk
SUMMARY:ENJOY NATURE
DESCRIPTION:ENJOY Nature – Platts Lodge Clean up and and weed removal.  Meet at Platt’s Lodge\, Hyndburn Greenway\, Woodnook\, Accrington.  Nearest Postcode is BB5 1NA.  All tools will be provided.  Wear suitable footwear and clothing. \nPlaces must be booked in advance.  Contact Jonny Walker\, Ribble Rivers Trust on 01200 444452 or 07930 665641 or email: jonny@ribbletrust.com  TIMES TO BE CONFIRMED \nENJOY NATURE
URL:https://prospectsfoundation.org.uk/event/enjoy-nature/
CATEGORIES:Volunteering
ORGANIZER;CN="River%20Ribble%20Trust":MAILTO:jonny@ribbletrust.com
END:VEVENT
END:VCALENDAR