BEGIN:VCALENDAR
VERSION:2.0
PRODID:-//Prospects - ECPv5.14.1//NONSGML v1.0//EN
CALSCALE:GREGORIAN
METHOD:PUBLISH
X-WR-CALNAME:Prospects
X-ORIGINAL-URL:https://prospectsfoundation.org.uk
X-WR-CALDESC:Events for Prospects
BEGIN:VTIMEZONE
TZID:Europe/London
BEGIN:DAYLIGHT
TZOFFSETFROM:+0000
TZOFFSETTO:+0100
TZNAME:BST
DTSTART:20190331T010000
END:DAYLIGHT
BEGIN:STANDARD
TZOFFSETFROM:+0100
TZOFFSETTO:+0000
TZNAME:GMT
DTSTART:20191027T010000
END:STANDARD
END:VTIMEZONE
BEGIN:VEVENT
DTSTART;TZID=Europe/London:20191027T100000
DTEND;TZID=Europe/London:20191027T150000
DTSTAMP:20260423T082224
CREATED:20191001T152451Z
LAST-MODIFIED:20191021T151512Z
UID:890-1572170400-1572188400@prospectsfoundation.org.uk
SUMMARY:PLANTATION ROAD POND VOLUNTEER DAY
DESCRIPTION:ENJOY NATURE – Plantation Road Pond Clean-up and and Weed Removal.  10.00am to 3.00pm. \nMeet at  Arden Hall Gates\, Plantation Road BB5 6RU.  All tools will be provided.  Please bring lunch to keep you going and a pair of wellies. \nPlaces must be booked in advance.  email admin@ribbletrust.com or ring 01200 444452 and ask for Charlotte or Helen for more information or to let us know you’ll be coming. \nPLANTATION ROAD POND VOLUNTEER DAY
URL:https://prospectsfoundation.org.uk/event/enjoy-nature-2/
CATEGORIES:Volunteering
END:VEVENT
END:VCALENDAR