BEGIN:VCALENDAR
VERSION:2.0
PRODID:-//Prospects - ECPv5.14.1//NONSGML v1.0//EN
CALSCALE:GREGORIAN
METHOD:PUBLISH
X-WR-CALNAME:Prospects
X-ORIGINAL-URL:https://prospectsfoundation.org.uk
X-WR-CALDESC:Events for Prospects
BEGIN:VTIMEZONE
TZID:Europe/London
BEGIN:DAYLIGHT
TZOFFSETFROM:+0000
TZOFFSETTO:+0100
TZNAME:BST
DTSTART:20190331T010000
END:DAYLIGHT
BEGIN:STANDARD
TZOFFSETFROM:+0100
TZOFFSETTO:+0000
TZNAME:GMT
DTSTART:20191027T010000
END:STANDARD
END:VTIMEZONE
BEGIN:VEVENT
DTSTART;TZID=Europe/London:20191112T100000
DTEND;TZID=Europe/London:20191112T123000
DTSTAMP:20260423T064205
CREATED:20191016T160834Z
LAST-MODIFIED:20191105T154628Z
UID:1662-1573552800-1573561800@prospectsfoundation.org.uk
SUMMARY:DISCOVER HYNDBURN WALK
DESCRIPTION:DISCOVER HYNDBURN WALKS – We will be running only one walk a month from November to February.   See 27th November or the poster above. \nCommunity groups can arrange their own group walk in a particular area or on a special theme such as birds\, trees\, history or flowers with Barbara. \nDURING THE WINTER MONTHS (NOVEMBER TO FEBRUARY) PLEASE BOOK ON THE WALKS IN ADVANCE SO WE CAN CONTACT YOU TO CONFIRM THEY ARE TAKING PLACE AND INFORM YOU OF ANY CHANGES TO THE START POINT OR THE ROUTE  DUE TO THE WEATHER AND TERRAIN CONDITIONS!   \nFor more information email barbara.sharples@prospectsfoundation.org.uk  Contact mobile 07599 106670. \nDISCOVER HYNDBURN WALK
URL:https://prospectsfoundation.org.uk/event/discover-hyndburn-walk/
CATEGORIES:Walking
END:VEVENT
END:VCALENDAR