BEGIN:VCALENDAR
VERSION:2.0
PRODID:-//Prospects - ECPv5.14.1//NONSGML v1.0//EN
CALSCALE:GREGORIAN
METHOD:PUBLISH
X-WR-CALNAME:Prospects
X-ORIGINAL-URL:https://prospectsfoundation.org.uk
X-WR-CALDESC:Events for Prospects
BEGIN:VTIMEZONE
TZID:Europe/London
BEGIN:DAYLIGHT
TZOFFSETFROM:+0000
TZOFFSETTO:+0100
TZNAME:BST
DTSTART:20190331T010000
END:DAYLIGHT
BEGIN:STANDARD
TZOFFSETFROM:+0100
TZOFFSETTO:+0000
TZNAME:GMT
DTSTART:20191027T010000
END:STANDARD
END:VTIMEZONE
BEGIN:VEVENT
DTSTART;TZID=Europe/London:20191023T100000
DTEND;TZID=Europe/London:20191023T120000
DTSTAMP:20260423T112423
CREATED:20191001T152156Z
LAST-MODIFIED:20191001T152156Z
UID:888-1571824800-1571832000@prospectsfoundation.org.uk
SUMMARY:DISCOVER HYNDBURN - RAILWAY HISTORY
DESCRIPTION:RAILWAY HISTORY WALK    A pleasant circular walk at the end of the Seed Gathering Season along an old railway line and surrounding area.   Part of this walk may include a section of the Leeds Liverpool Canal.   This amble not a ramble\, led by PROSPECTS\, will start from Tesco\, Queen Street\,  Great Harwood  BB6 7AT by the  steps entrance near the bus stop.  Grid Ref   SD738323 . \nMeet 09:50 for a prompt 10:00am start.  Two hours approx.  Less than 3 miles.   We will wait for the Accrington Bus to arrive before setting off. \nDogs are welcome on a lead.  Only one dog per walker though!  Please wear suitable clothing and footwear for the weather and this rural walk and bring along a drink of water.   The walks is for approximately two hours and will vary according to the speed of the walkers on the day.  PART OF DISCOVER HYNDBURN walks. \nFor more information email barbara.sharples@prospectsfoundation.org.uk  Contact mobile 07599 106670. \nDISCOVER HYNDBURN – RAILWAY HISTORY
URL:https://prospectsfoundation.org.uk/event/discover-hyndburn-railway-history/
CATEGORIES:Walking
END:VEVENT
END:VCALENDAR