BEGIN:VCALENDAR
VERSION:2.0
PRODID:-//Prospects - ECPv5.14.1//NONSGML v1.0//EN
CALSCALE:GREGORIAN
METHOD:PUBLISH
X-WR-CALNAME:Prospects
X-ORIGINAL-URL:https://prospectsfoundation.org.uk
X-WR-CALDESC:Events for Prospects
BEGIN:VTIMEZONE
TZID:Europe/London
BEGIN:DAYLIGHT
TZOFFSETFROM:+0000
TZOFFSETTO:+0100
TZNAME:BST
DTSTART:20190331T010000
END:DAYLIGHT
BEGIN:STANDARD
TZOFFSETFROM:+0100
TZOFFSETTO:+0000
TZNAME:GMT
DTSTART:20191027T010000
END:STANDARD
END:VTIMEZONE
BEGIN:VEVENT
DTSTART;TZID=Europe/London:20191008T100000
DTEND;TZID=Europe/London:20191008T120000
DTSTAMP:20260422T211516
CREATED:20191001T150141Z
LAST-MODIFIED:20191001T150637Z
UID:873-1570528800-1570536000@prospectsfoundation.org.uk
SUMMARY:DISCOVER HYNDBURN - Autumn Colours
DESCRIPTION:AUTUMN COLOURS at Foxhill Bank Nature Reserve.   This amble not a ramble\, led by PROSPECTS\, will start from Ossie Mills\, Moscow Mill\, Colliers St\, Oswaldtwistle\, Accrington BB5 3DE at the junction with the B6231 Union Road.  Grid Ref  SD742280.  Meet 09:50 for a prompt 10:00am start.  Two hours approx.  Less than 3 miles.  Dogs are welcome on a lead.  Only one dog per walker though!  Please wear suitable clothing and footwear for the weather and this flat easy going walk and bring along a drink of water.   The walk is for approximately two hours and will vary according to the speed of the walkers on the day.  PART OF DISCOVER HYNDBURN walks.  Bring your camera or a phone to take photos.  A chance to pop into Ossie Mills after the walk! \nFor more information email barbara.sharples@prospectsfoundation.org.uk  Contact mobile 07599 106670. \nDISCOVER HYNDBURN – Autumn Colours
URL:https://prospectsfoundation.org.uk/event/discover-hyndburn-autumn-colours/
CATEGORIES:Walking
END:VEVENT
END:VCALENDAR