BEGIN:VCALENDAR
VERSION:2.0
PRODID:-//Prospects - ECPv5.14.1//NONSGML v1.0//EN
CALSCALE:GREGORIAN
METHOD:PUBLISH
X-WR-CALNAME:Prospects
X-ORIGINAL-URL:https://prospectsfoundation.org.uk
X-WR-CALDESC:Events for Prospects
BEGIN:VTIMEZONE
TZID:Europe/London
BEGIN:DAYLIGHT
TZOFFSETFROM:+0000
TZOFFSETTO:+0100
TZNAME:BST
DTSTART:20210328T010000
END:DAYLIGHT
BEGIN:STANDARD
TZOFFSETFROM:+0100
TZOFFSETTO:+0000
TZNAME:GMT
DTSTART:20211031T010000
END:STANDARD
END:VTIMEZONE
BEGIN:VEVENT
DTSTART;TZID=Europe/London:20210502T060000
DTEND;TZID=Europe/London:20210502T090000
DTSTAMP:20260423T102146
CREATED:20210329T095135Z
LAST-MODIFIED:20210329T095135Z
UID:4810-1619935200-1619946000@prospectsfoundation.org.uk
SUMMARY:Dawn Chorus Bird Walk
DESCRIPTION:An early morning walk with a bird expert to see what we can identify in the dawn chorus. Numbers limited due to Covid regulations so location and booking details will be announced nearer the date. Sign up to our mailing list to ensure you are sent the details or check our website regularly. \nDawn Chorus Bird Walk
URL:https://prospectsfoundation.org.uk/event/dawn-chorus-bird-walk/
CATEGORIES:Walking,Woodlands
END:VEVENT
END:VCALENDAR