BEGIN:VCALENDAR
VERSION:2.0
PRODID:-//Prospects - ECPv5.14.1//NONSGML v1.0//EN
CALSCALE:GREGORIAN
METHOD:PUBLISH
X-WR-CALNAME:Prospects
X-ORIGINAL-URL:https://prospectsfoundation.org.uk
X-WR-CALDESC:Events for Prospects
BEGIN:VTIMEZONE
TZID:Europe/London
BEGIN:DAYLIGHT
TZOFFSETFROM:+0000
TZOFFSETTO:+0100
TZNAME:BST
DTSTART:20230326T010000
END:DAYLIGHT
BEGIN:STANDARD
TZOFFSETFROM:+0100
TZOFFSETTO:+0000
TZNAME:GMT
DTSTART:20231029T010000
END:STANDARD
END:VTIMEZONE
BEGIN:VEVENT
DTSTART;TZID=Europe/London:20230817T110000
DTEND;TZID=Europe/London:20230817T150000
DTSTAMP:20260425T215318
CREATED:20230814T132847Z
LAST-MODIFIED:20230814T132847Z
UID:10291-1692270000-1692284400@prospectsfoundation.org.uk
SUMMARY:Crafting Club 2023 - Moths
DESCRIPTION:Join us for the return of Crafting Club for the summer holidays!\n\nDuring the two sessions this August\, we will be learning about moths and butterflies\, creating free moth decorations and crafting a butterfly house! Perfect for kids 5 and up (children must be accompanied by an adult.)\n\nBooking required – contact Robert:\nrobert.gabryszak@prospectsfoundation.org.uk\nto find out more or book a place.\n\nSession 1 (Moths):\nThursday 17th August\, 11am – 3pm\nSession 2 (Butterflies):\nThursday 24th August\, 11am – 3pm\n\nLocation: Huncoat East Woodland\nCrafting Club 2023 – Moths
URL:https://prospectsfoundation.org.uk/event/crafting-club-2023-moths/
ATTACH;FMTTYPE=image/png:https://prospectsfoundation.org.uk/wp-content/uploads/2023/07/2.png
END:VEVENT
END:VCALENDAR