BEGIN:VCALENDAR
VERSION:2.0
PRODID:-//Prospects - ECPv5.14.1//NONSGML v1.0//EN
CALSCALE:GREGORIAN
METHOD:PUBLISH
X-WR-CALNAME:Prospects
X-ORIGINAL-URL:https://prospectsfoundation.org.uk
X-WR-CALDESC:Events for Prospects
BEGIN:VTIMEZONE
TZID:Europe/London
BEGIN:DAYLIGHT
TZOFFSETFROM:+0000
TZOFFSETTO:+0100
TZNAME:BST
DTSTART:20240331T010000
END:DAYLIGHT
BEGIN:STANDARD
TZOFFSETFROM:+0100
TZOFFSETTO:+0000
TZNAME:GMT
DTSTART:20241027T010000
END:STANDARD
END:VTIMEZONE
BEGIN:VEVENT
DTSTART;TZID=Europe/London:20240829T110000
DTEND;TZID=Europe/London:20240829T140000
DTSTAMP:20260420T045103
CREATED:20240812T092016Z
LAST-MODIFIED:20240812T092016Z
UID:12500-1724929200-1724940000@prospectsfoundation.org.uk
SUMMARY:Crafting at Woodnook Community Garden
DESCRIPTION:Join Project Officers Sonja Bottomer and Brandon Cherry for a summer holiday Crafting Club session! \nEnjoy an afternoon of fun and learn some outdoor skills! Take part in outdoor cooking\, nature crafts and green woodworking \nThis is a family-friendly event. All children and under 18s must be accompanied by adult supervision. Please do not bring any dogs to the event. \nBooking is required as spaces are limited. \nContact Sonja for more info and to book:\nsonja.bottomer@prospectsfoundation.org.uk \n  \n  \n  \n  \nCrafting at Woodnook Community Garden
URL:https://prospectsfoundation.org.uk/event/crafting-at-woodnook-community-garden-3/
LOCATION:Woodnook Community Garden\, Belfield Road\, Accrington
CATEGORIES:Nature Crafts,Traditional Crafts
ATTACH;FMTTYPE=image/jpeg:https://prospectsfoundation.org.uk/wp-content/uploads/2024/08/IMG_0474-scaled.jpg
ORGANIZER;CN="Sonja%20Bottomer":MAILTO:sonja.bottomer@prospectsfoundation.org.uk
END:VEVENT
END:VCALENDAR