BEGIN:VCALENDAR
VERSION:2.0
PRODID:-//Prospects - ECPv5.14.1//NONSGML v1.0//EN
CALSCALE:GREGORIAN
METHOD:PUBLISH
X-WR-CALNAME:Prospects
X-ORIGINAL-URL:https://prospectsfoundation.org.uk
X-WR-CALDESC:Events for Prospects
BEGIN:VTIMEZONE
TZID:Europe/London
BEGIN:DAYLIGHT
TZOFFSETFROM:+0000
TZOFFSETTO:+0100
TZNAME:BST
DTSTART:20200329T010000
END:DAYLIGHT
BEGIN:STANDARD
TZOFFSETFROM:+0100
TZOFFSETTO:+0000
TZNAME:GMT
DTSTART:20201025T010000
END:STANDARD
END:VTIMEZONE
BEGIN:VEVENT
DTSTART;TZID=Europe/London:20200224T080000
DTEND;TZID=Europe/London:20200224T170000
DTSTAMP:20260422T222717
CREATED:20200224T160336Z
LAST-MODIFIED:20200224T160336Z
UID:2907-1582531200-1582563600@prospectsfoundation.org.uk
SUMMARY:COPPICING COURSE AT HUNCOAT WOODS
DESCRIPTION:We will be running a Coppicing course at Huncoat Woods on Saturday 21st March from 10am to 2pm. More details to follow. \nCOPPICING COURSE AT HUNCOAT WOODS
URL:https://prospectsfoundation.org.uk/event/coppicing-course-at-huncoat-woods/
CATEGORIES:Conservation,Volunteering,Woodlands
END:VEVENT
END:VCALENDAR