BEGIN:VCALENDAR
VERSION:2.0
PRODID:-//Prospects - ECPv5.14.1//NONSGML v1.0//EN
CALSCALE:GREGORIAN
METHOD:PUBLISH
X-WR-CALNAME:Prospects
X-ORIGINAL-URL:https://prospectsfoundation.org.uk
X-WR-CALDESC:Events for Prospects
BEGIN:VTIMEZONE
TZID:Europe/London
BEGIN:DAYLIGHT
TZOFFSETFROM:+0000
TZOFFSETTO:+0100
TZNAME:BST
DTSTART:20230326T010000
END:DAYLIGHT
BEGIN:STANDARD
TZOFFSETFROM:+0100
TZOFFSETTO:+0000
TZNAME:GMT
DTSTART:20231029T010000
END:STANDARD
END:VTIMEZONE
BEGIN:VEVENT
DTSTART;TZID=Europe/London:20231118T100000
DTEND;TZID=Europe/London:20231118T130000
DTSTAMP:20260422T135258
CREATED:20231030T172419Z
LAST-MODIFIED:20231030T173049Z
UID:10594-1700301600-1700312400@prospectsfoundation.org.uk
SUMMARY:Seed Collection Walk - Peel Park and the Coppice Local Nature Reserve
DESCRIPTION:Join us for a walk around Peel Park and the Coppice LNR! \nWe will be collecting seeds from various plants to be prepared for future conservation activities on the site. \nSuitable for all ages\, children must be accompanied by an adult. \nDate: Saturday 18th November\nTime: 10am – 1pm (stay as long as you like)\nLocation: Meet in the Peel Park and the Coppice LNR car park (next to the bowling green) at the end of Peel Park Avenue \nContact Robert:\nrobert.gabryszak@prospectsfoundation.org.uk\nto find out more or book a place. \n  \nSeed Collection Walk – Peel Park and the Coppice Local Nature Reserve
URL:https://prospectsfoundation.org.uk/event/conservation-volunteers-session-peel-park-and-the-coppice-local-nature-reserve-86/
LOCATION:Peel Park and the Coppice Local Nature Reserve\, Main car park off Peel Park Avenue (next to the bowling green)\, Accrington\, Lancashire\, BB5 6HL\, United Kingdom
CATEGORIES:Conservation,Health and wellbeing,Peel Park and the Coppice LNR,Volunteering
ATTACH;FMTTYPE=image/jpeg:https://prospectsfoundation.org.uk/wp-content/uploads/2023/10/20230807_130046-scaled.jpg
ORGANIZER;CN="Robert%20Gabryszak%20-%20LNR%20Project%20Officer":MAILTO:robert.gabryszak@prospectsfoundation.org.uk
END:VEVENT
END:VCALENDAR