BEGIN:VCALENDAR
VERSION:2.0
PRODID:-//Prospects - ECPv5.14.1//NONSGML v1.0//EN
CALSCALE:GREGORIAN
METHOD:PUBLISH
X-WR-CALNAME:Prospects
X-ORIGINAL-URL:https://prospectsfoundation.org.uk
X-WR-CALDESC:Events for Prospects
BEGIN:VTIMEZONE
TZID:Europe/London
BEGIN:DAYLIGHT
TZOFFSETFROM:+0000
TZOFFSETTO:+0100
TZNAME:BST
DTSTART:20220327T010000
END:DAYLIGHT
BEGIN:STANDARD
TZOFFSETFROM:+0100
TZOFFSETTO:+0000
TZNAME:GMT
DTSTART:20221030T010000
END:STANDARD
END:VTIMEZONE
BEGIN:VEVENT
DTSTART;TZID=Europe/London:20220613T100000
DTEND;TZID=Europe/London:20220613T150000
DTSTAMP:20260422T134836
CREATED:20220531T102759Z
LAST-MODIFIED:20220601T084038Z
UID:7185-1655114400-1655132400@prospectsfoundation.org.uk
SUMMARY:Conservation volunteers session - Peel Park and the Coppice Local Nature Reserve
DESCRIPTION:Join us for a weekly conservation volunteers session at Peel Park and the Coppice Local Nature Reserve.  This will be a training session showing you how to carry out a grassland condition assessment.   To book a place or find out more email gemma.mcmullan@prospectsfoundation.org.uk\, telephone 01254 230348 or call into the Prospects office at 54 Broadway\, Accrington. \nConservation volunteers session – Peel Park and the Coppice Local Nature Reserve
URL:https://prospectsfoundation.org.uk/event/conservation-volunteers-session-peel-park-and-the-coppice-local-nature-reserve-20/
LOCATION:Peel Park and the Coppice Local Nature Reserve\, Main car park off Peel Park Avenue (next to the bowling green)\, Accrington\, Lancashire\, BB5 6HL\, United Kingdom
CATEGORIES:Conservation,Peel Park and the Coppice LNR,Volunteering
ATTACH;FMTTYPE=image/png:https://prospectsfoundation.org.uk/wp-content/uploads/2022/01/Peel-Park-and-the-Coppice-Local-Nature-Reserve-conservation-volunteers.png
ORGANIZER;CN="Gemma%20McMullan":MAILTO:gemma.mcmullan@prospectsfoundation.org.uk
END:VEVENT
END:VCALENDAR