BEGIN:VCALENDAR
VERSION:2.0
PRODID:-//Prospects - ECPv5.14.1//NONSGML v1.0//EN
CALSCALE:GREGORIAN
METHOD:PUBLISH
X-WR-CALNAME:Prospects
X-ORIGINAL-URL:https://prospectsfoundation.org.uk
X-WR-CALDESC:Events for Prospects
BEGIN:VTIMEZONE
TZID:Europe/London
BEGIN:DAYLIGHT
TZOFFSETFROM:+0000
TZOFFSETTO:+0100
TZNAME:BST
DTSTART:20200329T010000
END:DAYLIGHT
BEGIN:STANDARD
TZOFFSETFROM:+0100
TZOFFSETTO:+0000
TZNAME:GMT
DTSTART:20201025T010000
END:STANDARD
END:VTIMEZONE
BEGIN:VEVENT
DTSTART;TZID=Europe/London:20200302T103000
DTEND;TZID=Europe/London:20200302T143000
DTSTAMP:20260423T112352
CREATED:20200224T104250Z
LAST-MODIFIED:20200225T151823Z
UID:2858-1583145000-1583159400@prospectsfoundation.org.uk
SUMMARY:CONSERVATION VOLUNTEERS-PLANTATION ROAD HEDGE
DESCRIPTION:CONSERVATION VOLUNTEERS – The Conservation Group will be working on the hedge at Plantation Road\, Accrington to clear out old fencing and cut back some of the scrub to get it ready for coppicing and planting. Meet at 10:30am at the Arden Hall Gates at the top of Plantation Street\, Accrington\, BB5 6RU. Wear warm\, old clothes and sensible\, strong shoes or boots. Bring a packed lunch and waterproof clothing. We provide tools\, gloves\, materials and hot drinks. \nIf you provide Roger with a mobile number he will text the details of the tasks and the meeting point in advance.  For more information phone Roger Plum\, 01254 230348\, 07974 626835 or email roger.plum@prospectsfoundation.org.uk \nCONSERVATION VOLUNTEERS-PLANTATION ROAD HEDGE
URL:https://prospectsfoundation.org.uk/event/conservation-volunteers-25/
CATEGORIES:Conservation,Volunteering,Woodlands
END:VEVENT
END:VCALENDAR