BEGIN:VCALENDAR
VERSION:2.0
PRODID:-//Prospects - ECPv5.14.1//NONSGML v1.0//EN
CALSCALE:GREGORIAN
METHOD:PUBLISH
X-WR-CALNAME:Prospects
X-ORIGINAL-URL:https://prospectsfoundation.org.uk
X-WR-CALDESC:Events for Prospects
BEGIN:VTIMEZONE
TZID:Europe/London
BEGIN:DAYLIGHT
TZOFFSETFROM:+0000
TZOFFSETTO:+0100
TZNAME:BST
DTSTART:20220327T010000
END:DAYLIGHT
BEGIN:STANDARD
TZOFFSETFROM:+0100
TZOFFSETTO:+0000
TZNAME:GMT
DTSTART:20221030T010000
END:STANDARD
END:VTIMEZONE
BEGIN:VEVENT
DTSTART;TZID=Europe/London:20220412T100000
DTEND;TZID=Europe/London:20220412T153000
DTSTAMP:20260422T203322
CREATED:20220412T142649Z
LAST-MODIFIED:20220412T142649Z
UID:6995-1649757600-1649777400@prospectsfoundation.org.uk
SUMMARY:Condition Assessment Training with John Lamb
DESCRIPTION:Join John Lamb from Lancashire Wild Trust to learn how to carry out Condition Assessments on woodlands\, recording species and identifying them too! \nTo book your place email Gareth – gareth.muir@prospectsfoundation.org.uk  \nCondition Assessment Training with John Lamb
URL:https://prospectsfoundation.org.uk/event/condition-assessment-training-with-john-lamb/
CATEGORIES:Woodlands
ORGANIZER;CN="Gareth%20Muir%20-%20Woodlands%20Officer":MAILTO:gareth.muir@prospectsfoundation.org.uk
END:VEVENT
END:VCALENDAR