BEGIN:VCALENDAR
VERSION:2.0
PRODID:-//Prospects - ECPv5.14.1//NONSGML v1.0//EN
CALSCALE:GREGORIAN
METHOD:PUBLISH
X-WR-CALNAME:Prospects
X-ORIGINAL-URL:https://prospectsfoundation.org.uk
X-WR-CALDESC:Events for Prospects
BEGIN:VTIMEZONE
TZID:Europe/London
BEGIN:DAYLIGHT
TZOFFSETFROM:+0000
TZOFFSETTO:+0100
TZNAME:BST
DTSTART:20220327T010000
END:DAYLIGHT
BEGIN:STANDARD
TZOFFSETFROM:+0100
TZOFFSETTO:+0000
TZNAME:GMT
DTSTART:20221030T010000
END:STANDARD
END:VTIMEZONE
BEGIN:VEVENT
DTSTART;TZID=Europe/London:20220326T120000
DTEND;TZID=Europe/London:20220326T140000
DTSTAMP:20260422T231329
CREATED:20220303T174611Z
LAST-MODIFIED:20220314T133119Z
UID:6770-1648296000-1648303200@prospectsfoundation.org.uk
SUMMARY:Community Tree Planting (Treescapes) - Windsor Road\, Great Harwood
DESCRIPTION:Community Tree Planting (Treescapes) \nJoin the Woody group from 12 – 2pm every Saturday until the end of March 2022 \nUnder 16s welcome but to be accompanied by a responsible adult please. \nMeeting place to be confirmed. Contact Gareth – gareth.muir@prospectsfoundation.org.uk to register your interest. \nCommunity Tree Planting (Treescapes) – Windsor Road\, Great Harwood
URL:https://prospectsfoundation.org.uk/event/community-tree-planting-treescapes-4/
CATEGORIES:Conservation,Volunteering
END:VEVENT
END:VCALENDAR