BEGIN:VCALENDAR
VERSION:2.0
PRODID:-//Prospects - ECPv5.14.1//NONSGML v1.0//EN
CALSCALE:GREGORIAN
METHOD:PUBLISH
X-WR-CALNAME:Prospects
X-ORIGINAL-URL:https://prospectsfoundation.org.uk
X-WR-CALDESC:Events for Prospects
BEGIN:VTIMEZONE
TZID:Europe/London
BEGIN:DAYLIGHT
TZOFFSETFROM:+0000
TZOFFSETTO:+0100
TZNAME:BST
DTSTART:20240331T010000
END:DAYLIGHT
BEGIN:STANDARD
TZOFFSETFROM:+0100
TZOFFSETTO:+0000
TZNAME:GMT
DTSTART:20241027T010000
END:STANDARD
END:VTIMEZONE
BEGIN:VEVENT
DTSTART;TZID=Europe/London:20241113T100000
DTEND;TZID=Europe/London:20241113T130000
DTSTAMP:20260423T003327
CREATED:20241031T165206Z
LAST-MODIFIED:20241031T165206Z
UID:13277-1731492000-1731502800@prospectsfoundation.org.uk
SUMMARY:Community Tree Nursery session
DESCRIPTION:Join our Community TreeACTION Officer Helen for a practical session at our new ‘Tree Nursery’ Allotment at Miller Fold! \nThis week\, we will be stratifying seeds (rowan\, guelder rose & spindle) ready for the winter. We’ll also be building a rodent-proof tree box to keep the trees safe! \nWe will be meeting at the small car park at the top of Miller Fold Avenue\, Accrington\, BB5 0NT (more on-street parking available once the car park is full). Google maps link HERE. \nPLEASE NOTE: Site Accessibility – there is a short walk from the cars down a very uneven road. The allotment itself has bad access; the path down to the entrance is steep\, narrow\, slippery and overgrown! Wear good footwear and non-snag clothing.  \n\nEveryone welcome. Under 18s will need to be accompanied by an adult\nPlease wear suitable outdoor clothes and sturdy boots\n\nTo find out more or confirm your attendance\, please contact Helen at helen.earnshaw@prospectsfoundation.org.uk\, telephone 01254 230348\, or call into the Prospects office at 54 Broadway\, Accrington\, BB5 1EW. \nThe TreeACTION Project is a direct result of Hyndburn Borough Council’s Climate Emergency Declaration in September 2019 and is seen as one of the key projects where local people can help to reduce emissions within the borough. \n  \n  \nCommunity Tree Nursery session
URL:https://prospectsfoundation.org.uk/event/community-tree-nursery-session-4/
LOCATION:Miller Fold Allotment\, Miller Fold Ave\, Accrington\, BB5 0NT\, United Kingdom
CATEGORIES:Conservation,Gardening,Health and wellbeing,Volunteering
ATTACH;FMTTYPE=image/jpeg:https://prospectsfoundation.org.uk/wp-content/uploads/2024/10/20231026_101113_012245-scaled-e1730393474649.jpg
ORGANIZER;CN="Helen%20Earnshaw%20-%20Community%20TreeACTION%20Officer":MAILTO:helen.earnshaw@prospectsfoundation.org.uk
END:VEVENT
END:VCALENDAR