BEGIN:VCALENDAR
VERSION:2.0
PRODID:-//Prospects - ECPv5.14.1//NONSGML v1.0//EN
CALSCALE:GREGORIAN
METHOD:PUBLISH
X-WR-CALNAME:Prospects
X-ORIGINAL-URL:https://prospectsfoundation.org.uk
X-WR-CALDESC:Events for Prospects
BEGIN:VTIMEZONE
TZID:Europe/London
BEGIN:DAYLIGHT
TZOFFSETFROM:+0000
TZOFFSETTO:+0100
TZNAME:BST
DTSTART:20210328T010000
END:DAYLIGHT
BEGIN:STANDARD
TZOFFSETFROM:+0100
TZOFFSETTO:+0000
TZNAME:GMT
DTSTART:20211031T010000
END:STANDARD
END:VTIMEZONE
BEGIN:VEVENT
DTSTART;TZID=Europe/London:20210712T180000
DTEND;TZID=Europe/London:20210712T190000
DTSTAMP:20260422T164306
CREATED:20210623T171640Z
LAST-MODIFIED:20210623T171640Z
UID:5105-1626112800-1626116400@prospectsfoundation.org.uk
SUMMARY:Climate Chat
DESCRIPTION:Climate Chats are friendly\, online meetings with a different climate change theme each month.  Outdoor Learning Officer Danielle gives a short talk about a climate change theme\, then we all chat about what everyday eco-actions we can take to help stop climate change.   \nTo join climate chat\, at 6pm click here. \nJuly’s climate chat theme is “Butterflies” \nClimate Chat
URL:https://prospectsfoundation.org.uk/event/climate-chat/
LOCATION:online
CATEGORIES:Conservation,Outdoor Learning
ORGANIZER;CN="Danielle%20Rowlands%2C%20Outdoor%20Learning%20Officer":MAILTO:danielle.rowlands@prospectsfoundation.org.uk
END:VEVENT
END:VCALENDAR