BEGIN:VCALENDAR
VERSION:2.0
PRODID:-//Prospects - ECPv5.14.1//NONSGML v1.0//EN
CALSCALE:GREGORIAN
METHOD:PUBLISH
X-WR-CALNAME:Prospects
X-ORIGINAL-URL:https://prospectsfoundation.org.uk
X-WR-CALDESC:Events for Prospects
BEGIN:VTIMEZONE
TZID:Europe/London
BEGIN:DAYLIGHT
TZOFFSETFROM:+0000
TZOFFSETTO:+0100
TZNAME:BST
DTSTART:20190331T010000
END:DAYLIGHT
BEGIN:STANDARD
TZOFFSETFROM:+0100
TZOFFSETTO:+0000
TZNAME:GMT
DTSTART:20191027T010000
END:STANDARD
END:VTIMEZONE
BEGIN:VEVENT
DTSTART;TZID=Europe/London:20191105T190000
DTEND;TZID=Europe/London:20191105T200000
DTSTAMP:20260422T111015
CREATED:20191029T152717Z
LAST-MODIFIED:20191106T113918Z
UID:2007-1572980400-1572984000@prospectsfoundation.org.uk
SUMMARY:CLAYTON & ALTHAM PROSPECTS PANEL MEETING
DESCRIPTION:Come and join the Clayton-le–Moors and Altham Prospects Panel for their monthly meeting. \nThe venue is the Forts Arms\, 1 Lower Barnes Street\, Clayton-le-Moors\, Accrington\, BB5 5TA. \nThe group is currently meeting to decide future projects in Clayton and Altham\, including a series of practical works at the Millennium Baby Woodland on Burnley Road\, Altham in readiness for the 21st anniversary in 2021. \nCLAYTON & ALTHAM PROSPECTS PANEL MEETING
URL:https://prospectsfoundation.org.uk/event/clayton-altham-prospects-panel-meeting/
LOCATION:Forts Arms\, 1 Lower Barnes Street\, Clayton-le-Moors\, Accrington\, Lancashire\, BB5 5TA\, United Kingdom
CATEGORIES:Volunteering
END:VEVENT
END:VCALENDAR